BEGIN:VCALENDAR
VERSION:2.0
PRODID:-//demo.eki-musterhausen.de//NONSGML kigkonsult.se iCalcreator 2.41.92//
CALSCALE:GREGORIAN
METHOD:PUBLISH
UID:66643265-3761-4961-a234-626466396235
X-WR-TIMEZONE:Europe/Berlin
X-LIC-LOCATION:Europe/Berlin
BEGIN:VTIMEZONE
TZID:Europe/Berlin
BEGIN:DAYLIGHT
TZOFFSETFROM:+0100
TZOFFSETTO:+0200
TZNAME:CEST
DTSTART:19700329T020000
RRULE:FREQ=YEARLY;BYDAY=-1SU;BYMONTH=3
END:DAYLIGHT
BEGIN:STANDARD
TZOFFSETFROM:+0200
TZOFFSETTO:+0100
TZNAME:CET
DTSTART:19701025T030000
RRULE:FREQ=YEARLY;BYDAY=-1SU;BYMONTH=10
END:STANDARD
END:VTIMEZONE
BEGIN:VEVENT
UID:63636435-6335-4436-a164-623064666266
DTSTAMP:20260424T071424Z
DESCRIPTION:mit Abendmahl\n \n Veranstaltungsort:\n Matthäuskirche\n Pforzh
 eim\n \n Veranstalter:\n Kindergarten Himmelszelt\n Musterstr. 1
DTSTART;TZID=Europe/Berlin:20260426T090000
DTEND;TZID=Europe/Berlin:20260426T093000
LOCATION:Matthäuskirche\n - Pforzheim
SUMMARY:Gottesdienst
X-ALT-DESC;FMTTYPE=text/html:mit Abendmahl<br /><br />Veranstaltungsort: <b
 r />Matthäuskirche<br />Pforzheim<br /><br />Veranstalter: <br />Kindergar
 ten Himmelszelt<br />Musterstr. 1
END:VEVENT
END:VCALENDAR
