BEGIN:VCALENDAR
VERSION:2.0
PRODID:-//demo.eki-musterhausen.de//NONSGML kigkonsult.se iCalcreator 2.41.92//
CALSCALE:GREGORIAN
METHOD:PUBLISH
UID:66386664-3735-4263-a130-633062323563
X-WR-TIMEZONE:Europe/Berlin
X-LIC-LOCATION:Europe/Berlin
BEGIN:VTIMEZONE
TZID:Europe/Berlin
BEGIN:DAYLIGHT
TZOFFSETFROM:+0100
TZOFFSETTO:+0200
TZNAME:CEST
DTSTART:19700329T020000
RRULE:FREQ=YEARLY;BYDAY=-1SU;BYMONTH=3
END:DAYLIGHT
BEGIN:STANDARD
TZOFFSETFROM:+0200
TZOFFSETTO:+0100
TZNAME:CET
DTSTART:19701025T030000
RRULE:FREQ=YEARLY;BYDAY=-1SU;BYMONTH=10
END:STANDARD
END:VTIMEZONE
BEGIN:VEVENT
UID:62633661-3866-4634-a235-633663356164
DTSTAMP:20260423T081217Z
DESCRIPTION:Veranstaltungsort:\n Achern Christuskirche\n Achern\n \n Verans
 talter:\n Kirchengemeinde Musterhausen\n https://www.ekiba.de/infothek/arb
 eitsfelder/ichbinlang
DTSTART;TZID=Europe/Berlin:20260427T180000
DTEND;TZID=Europe/Berlin:20260427T190000
LOCATION:Achern Christuskirche\n - Achern
SUMMARY:Abendandacht
X-ALT-DESC;FMTTYPE=text/html:Veranstaltungsort: <br />Achern Christuskirche
 <br />Achern<br /><br />Veranstalter: <br />Kirchengemeinde Musterhausen<b
 r />https://www.ekiba.de/infothek/arbeitsfelder/ichbinlang
END:VEVENT
END:VCALENDAR
