BEGIN:VCALENDAR
VERSION:2.0
PRODID:-//demo.eki-musterhausen.de//NONSGML kigkonsult.se iCalcreator 2.41.92//
CALSCALE:GREGORIAN
METHOD:PUBLISH
UID:63633666-3532-4161-b138-336639306262
X-WR-TIMEZONE:Europe/Berlin
X-LIC-LOCATION:Europe/Berlin
BEGIN:VTIMEZONE
TZID:Europe/Berlin
BEGIN:DAYLIGHT
TZOFFSETFROM:+0100
TZOFFSETTO:+0200
TZNAME:CEST
DTSTART:19700329T020000
RRULE:FREQ=YEARLY;BYDAY=-1SU;BYMONTH=3
END:DAYLIGHT
BEGIN:STANDARD
TZOFFSETFROM:+0200
TZOFFSETTO:+0100
TZNAME:CET
DTSTART:19701025T030000
RRULE:FREQ=YEARLY;BYDAY=-1SU;BYMONTH=10
END:STANDARD
END:VTIMEZONE
BEGIN:VEVENT
UID:33653737-3538-4165-b430-643362623866
DTSTAMP:20260421T213056Z
DESCRIPTION:Gottesdienst\n \n Organist/in:\n Ältester/e:\n \n Weitere Termi
 ne:\n Jeden Mi. 28.01.2026 bis 02.02.2028\, 06:00 Uhr\n \n Veranstaltungso
 rt:\n Evang. Petruskirche Burgheim\n \n Veranstalter:\n Kirchengemeinde Mu
 sterhausen\n https://www.ekiba.de/infothek/arbeitsfelder/ichbinlang
DTSTART;TZID=Europe/Berlin:20260422T060000
DTEND;TZID=Europe/Berlin:20260422T070000
LOCATION:Evang. Petruskirche Burgheim
SUMMARY:Gottesdienst
X-ALT-DESC;FMTTYPE=text/html:Gottesdienst<br /><br />Organist/in: <br />Ält
 ester/e: <br /><br />Weitere Termine:<br />Jeden Mi. 28.01.2026 bis 02.02.
 2028\, 06:00 Uhr<br /><br />Veranstaltungsort: <br />Evang. Petruskirche B
 urgheim<br /><br />Veranstalter: <br />Kirchengemeinde Musterhausen<br />h
 ttps://www.ekiba.de/infothek/arbeitsfelder/ichbinlang
END:VEVENT
END:VCALENDAR
