BEGIN:VCALENDAR
VERSION:2.0
PRODID:-//demo.eki-musterhausen.de//NONSGML kigkonsult.se iCalcreator 2.41.92//
CALSCALE:GREGORIAN
METHOD:PUBLISH
UID:65316431-3931-4438-b065-383564303236
X-WR-TIMEZONE:Europe/Berlin
X-LIC-LOCATION:Europe/Berlin
BEGIN:VTIMEZONE
TZID:Europe/Berlin
BEGIN:DAYLIGHT
TZOFFSETFROM:+0100
TZOFFSETTO:+0200
TZNAME:CEST
DTSTART:19700329T020000
RRULE:FREQ=YEARLY;BYDAY=-1SU;BYMONTH=3
END:DAYLIGHT
BEGIN:STANDARD
TZOFFSETFROM:+0200
TZOFFSETTO:+0100
TZNAME:CET
DTSTART:19701025T030000
RRULE:FREQ=YEARLY;BYDAY=-1SU;BYMONTH=10
END:STANDARD
END:VTIMEZONE
BEGIN:VEVENT
UID:31356338-3133-4633-a235-353465636538
DTSTAMP:20260423T041519Z
DESCRIPTION:Gottesdienst\n \n Weitere Termine:\n Jeden Di. und Do. 22.05.20
 25 bis 17.06.2027\, 09:00 Uhr\n \n Veranstaltungsort:\n Matthäuskirche\n H
 ochkopfstraße 30\n 75179 Pforzheim\n https://www.evkirche-pf.de/html/conte
 nt/matthaeus626.html\n \n Veranstalter:\n Kirchengemeinde Musterhausen\n h
 ttps://www.ekiba.de/infothek/arbeitsfelder/ichbinlang
DTSTART;TZID=Europe/Berlin:20260522T090000
DTEND;TZID=Europe/Berlin:20260522T100000
LOCATION:Matthäuskirche\n - Hochkopfstraße 30\n - 75179 Pforzheim\n - https
 ://www.evkirche-pf.de/html/content/matthaeus626.html
SUMMARY:Abendgottesdienst
X-ALT-DESC;FMTTYPE=text/html:Gottesdienst<br /><br />Weitere Termine:<br />
 Jeden Di. und Do. 22.05.2025 bis 17.06.2027\, 09:00 Uhr<br /><br />Veranst
 altungsort: <br />Matthäuskirche<br />Hochkopfstraße 30<br />75179 Pforzhe
 im<br />https://www.evkirche-pf.de/html/content/matthaeus626.html<br /><br
  />Veranstalter: <br />Kirchengemeinde Musterhausen<br />https://www.ekiba
 .de/infothek/arbeitsfelder/ichbinlang
END:VEVENT
END:VCALENDAR
