BEGIN:VCALENDAR
VERSION:2.0
PRODID:-//demo.eki-musterhausen.de//NONSGML kigkonsult.se iCalcreator 2.41.92//
CALSCALE:GREGORIAN
METHOD:PUBLISH
UID:31363534-6133-4961-a530-363166303535
X-WR-TIMEZONE:Europe/Berlin
X-LIC-LOCATION:Europe/Berlin
BEGIN:VTIMEZONE
TZID:Europe/Berlin
BEGIN:DAYLIGHT
TZOFFSETFROM:+0100
TZOFFSETTO:+0200
TZNAME:CEST
DTSTART:19700329T020000
RRULE:FREQ=YEARLY;BYDAY=-1SU;BYMONTH=3
END:DAYLIGHT
BEGIN:STANDARD
TZOFFSETFROM:+0200
TZOFFSETTO:+0100
TZNAME:CET
DTSTART:19701025T030000
RRULE:FREQ=YEARLY;BYDAY=-1SU;BYMONTH=10
END:STANDARD
END:VTIMEZONE
BEGIN:VEVENT
UID:65363533-3939-4130-b161-656561336262
DTSTAMP:20260423T103926Z
DESCRIPTION:Konzerte\n \n Weitere Termine:\n Jeden 3. Do. im Monat\, 16.05.
 2024 - 18.11.2027\, 20:00 bis 23:00 Uhr\n Jeden Sa. vor dem 1. So. im Mona
 t\, 30.11.2024 - 04.12.2027\, 20:00 bis 23:00 Uhr\n \n Einmal quer durch d
 ie Musikrichtungen - von Kirchenmusik bis Pop. Genießen Sie einen schönen 
 Abend mit dem Kirchenchor.\n \n Veranstaltungsort:\n Stadtkirche Offenburg
 \n \n Veranstalter:\n Gemeinde Stadtkirche Offenburg\n Kirchplatz 1\n 7765
 2 Offenburg\n Telefon: Telefonnummer
DTSTART;TZID=Europe/Berlin:20260521T200000
DTEND;TZID=Europe/Berlin:20260521T230000
LOCATION:Stadtkirche Offenburg
SUMMARY:Konzert  Kirchenchor
X-ALT-DESC;FMTTYPE=text/html:Konzerte<br /><br />Weitere Termine:<br />Jede
 n 3. Do. im Monat\, 16.05.2024 - 18.11.2027\, 20:00 bis 23:00 Uhr<br />Jed
 en Sa. vor dem 1. So. im Monat\, 30.11.2024 - 04.12.2027\, 20:00 bis 23:00
  Uhr<br /><br />Einmal quer durch die Musikrichtungen - von Kirchenmusik b
 is Pop. Genießen Sie einen schönen Abend mit dem Kirchenchor.<br /><br />V
 eranstaltungsort: <br />Stadtkirche Offenburg<br /><br />Veranstalter: <br
  />Gemeinde Stadtkirche Offenburg<br />Kirchplatz 1<br />77652 Offenburg<b
 r />Telefon: Telefonnummer
END:VEVENT
END:VCALENDAR
