BEGIN:VCALENDAR
VERSION:2.0
PRODID:-//demo.eki-musterhausen.de//NONSGML kigkonsult.se iCalcreator 2.41.92//
CALSCALE:GREGORIAN
METHOD:PUBLISH
UID:39633738-3934-4336-b231-373939313065
X-WR-TIMEZONE:Europe/Berlin
X-LIC-LOCATION:Europe/Berlin
BEGIN:VTIMEZONE
TZID:Europe/Berlin
BEGIN:DAYLIGHT
TZOFFSETFROM:+0100
TZOFFSETTO:+0200
TZNAME:CEST
DTSTART:19700329T020000
RRULE:FREQ=YEARLY;BYDAY=-1SU;BYMONTH=3
END:DAYLIGHT
BEGIN:STANDARD
TZOFFSETFROM:+0200
TZOFFSETTO:+0100
TZNAME:CET
DTSTART:19701025T030000
RRULE:FREQ=YEARLY;BYDAY=-1SU;BYMONTH=10
END:STANDARD
END:VTIMEZONE
BEGIN:VEVENT
UID:33333330-3963-4439-b637-386239356262
DTSTAMP:20260422T195826Z
DESCRIPTION:Feste\n \n Mobile Ressourcen:\n 5 Bierzeltgarnitur\n Abholung/R
 ückgabe: 25.04.2026 13:40 / 25.04.2026 20:20\n Kindergarten Pusteblume\n M
 üller\, Angela\n Bierzeltgarnitur bestehend aus zwei Bänken und einem Tisc
 h\n \n Weitere Termine:\n Jeden Sa. vor dem letzten So. im Monat\, 29.11.2
 025 - 27.11.2027\, 14:00 Uhr\n So. 27.12.2026\, 19:00 Uhr\n \n Veranstaltu
 ngsort:\n Gemeindehaus Musterhausen\n Fritz-Neuert-Straße 32\n 77656 Muste
 rhausen\n Telefon: 0253 - 123 45 67\n https://musterhausen.de/ueber-uns/\n
  Öffnungszeiten: Mo + Do: 9 - 12 Uhr Di + Fr: 14 -16 UhrGemeindehaus\n \n 
 Veranstalter:\n Kirchengemeinde Musterhausen\n https://www.ekiba.de/infoth
 ek/arbeitsfelder/ichbinlang
DTSTART;TZID=Europe/Berlin:20260425T140000
DTEND;TZID=Europe/Berlin:20260425T200000
LOCATION:Gemeindehaus Musterhausen\n - Fritz-Neuert-Straße 32\n - 77656 Mus
 terhausen\n - Telefon: 0253 - 123 45 67\n - https://musterhausen.de/ueber-
 uns/\n - Öffnungszeiten: Mo + Do: 9 - 12 Uhr Di + Fr: 14 -16 UhrGemeindeha
 us
SUMMARY:Gemeindefest
X-ALT-DESC;FMTTYPE=text/html:Feste<br /><br />Mobile Ressourcen: <br />5 Bi
 erzeltgarnitur<br />Abholung/Rückgabe: 25.04.2026 13:40 / 25.04.2026 20:20
 <br />Kindergarten Pusteblume<br />Müller\, Angela<br />   Bierzeltgarnitu
 r bestehend aus zwei Bänken und einem Tisch <br /><br />Weitere Termine:<b
 r />Jeden Sa. vor dem letzten So. im Monat\, 29.11.2025 - 27.11.2027\, 14:
 00 Uhr<br />So. 27.12.2026\, 19:00 Uhr<br /><br />Veranstaltungsort: <br /
 >Gemeindehaus Musterhausen<br />Fritz-Neuert-Straße 32<br />77656 Musterha
 usen<br />Telefon: 0253 - 123 45 67<br />https://musterhausen.de/ueber-uns
 /<br />Öffnungszeiten:\n Mo + Do: 9 - 12 Uhr\n Di + Fr: 14 -16 UhrGemeinde
 haus<br /><br />Veranstalter: <br />Kirchengemeinde Musterhausen<br />http
 s://www.ekiba.de/infothek/arbeitsfelder/ichbinlang
END:VEVENT
END:VCALENDAR
