BEGIN:VCALENDAR
VERSION:2.0
PRODID:-//demo.eki-musterhausen.de//NONSGML kigkonsult.se iCalcreator 2.41.92//
CALSCALE:GREGORIAN
METHOD:PUBLISH
UID:39343139-3062-4439-b763-326165356464
X-WR-TIMEZONE:Europe/Berlin
X-LIC-LOCATION:Europe/Berlin
BEGIN:VTIMEZONE
TZID:Europe/Berlin
BEGIN:DAYLIGHT
TZOFFSETFROM:+0100
TZOFFSETTO:+0200
TZNAME:CEST
DTSTART:19700329T020000
RRULE:FREQ=YEARLY;BYDAY=-1SU;BYMONTH=3
END:DAYLIGHT
BEGIN:STANDARD
TZOFFSETFROM:+0200
TZOFFSETTO:+0100
TZNAME:CET
DTSTART:19701025T030000
RRULE:FREQ=YEARLY;BYDAY=-1SU;BYMONTH=10
END:STANDARD
END:VTIMEZONE
BEGIN:VEVENT
UID:37393437-3231-4436-b438-653562303833
DTSTAMP:20260423T181911Z
DESCRIPTION:im Zeltlager\n \n Jugend\n \n Gruppenleiter/in: Elizabeth Mülle
 r-Zimmermann\n \n Mobile Ressourcen:\n 5 Bierzeltgarnitur\n Abholung/Rückg
 abe: 01.08.2027 14:40 / 02.08.2027 16:20\n Kindergarten Pusteblume\n Mülle
 r\, Angela\n Bierzeltgarnitur bestehend aus zwei Bänken und einem Tisch\n 
 \n Weitere Termine:\n Jeden 4. Fr. im Monat\, 28.02.2025 - 22.01.2027\, ga
 nztägig\n Sa. 26.09.2026\, 15:00 Uhr bis So. 27.09.2026\, 16:00 Uhr\n \n 3
  Nächte weg von daheim\, Spass haben mit anderen Jugendlichen und Vorberei
 tung auf die Konfirmation - das ist die Konfi-Freizeit.\n \n Veranstaltung
 sort:\n Gemeindehaus Buckenberg\n Haselweg 26\n 75175 Pforzheim\n https://
 www.evkirche-pf.de/html/content/buckenberg_haidach.html\n \n Veranstalter:
 \n Stadtkirchengemeinde Offenburg
DTSTART;TZID=Europe/Berlin:20270801T150000
DTEND;TZID=Europe/Berlin:20270802T160000
LOCATION:Gemeindehaus Buckenberg\n - Haselweg 26\n - 75175 Pforzheim\n - ht
 tps://www.evkirche-pf.de/html/content/buckenberg_haidach.html
SUMMARY:Konfi-Freizeit
X-ALT-DESC;FMTTYPE=text/html:im Zeltlager<br /><br />Jugend<br /><br />Grup
 penleiter/in: Elizabeth Müller-Zimmermann<br /><br />Mobile Ressourcen: <b
 r />5 Bierzeltgarnitur<br />Abholung/Rückgabe: 01.08.2027 14:40 / 02.08.20
 27 16:20<br />Kindergarten Pusteblume<br />Müller\, Angela<br />   Bierzel
 tgarnitur bestehend aus zwei Bänken und einem Tisch <br /><br />Weitere Te
 rmine:<br />Jeden 4. Fr. im Monat\, 28.02.2025 - 22.01.2027\, ganztägig<br
  />Sa. 26.09.2026\, 15:00 Uhr bis So. 27.09.2026\, 16:00 Uhr<br /><br />3 
 Nächte weg von daheim\, Spass haben mit anderen Jugendlichen und Vorbereit
 ung auf die Konfirmation - das ist die Konfi-Freizeit.<br /><br />Veransta
 ltungsort: <br />Gemeindehaus Buckenberg<br />Haselweg 26<br />75175 Pforz
 heim<br />https://www.evkirche-pf.de/html/content/buckenberg_haidach.html<
 br /><br />Veranstalter: <br />Stadtkirchengemeinde Offenburg
END:VEVENT
END:VCALENDAR
