BEGIN:VCALENDAR
VERSION:2.0
PRODID:-//demo.eki-musterhausen.de//NONSGML kigkonsult.se iCalcreator 2.41.92//
CALSCALE:GREGORIAN
METHOD:PUBLISH
UID:64646631-3262-4138-b032-653665326563
X-WR-TIMEZONE:Europe/Berlin
X-LIC-LOCATION:Europe/Berlin
BEGIN:VTIMEZONE
TZID:Europe/Berlin
BEGIN:DAYLIGHT
TZOFFSETFROM:+0100
TZOFFSETTO:+0200
TZNAME:CEST
DTSTART:19700329T020000
RRULE:FREQ=YEARLY;BYDAY=-1SU;BYMONTH=3
END:DAYLIGHT
BEGIN:STANDARD
TZOFFSETFROM:+0200
TZOFFSETTO:+0100
TZNAME:CET
DTSTART:19701025T030000
RRULE:FREQ=YEARLY;BYDAY=-1SU;BYMONTH=10
END:STANDARD
END:VTIMEZONE
BEGIN:VEVENT
UID:38313633-3336-4333-b365-633165376338
DTSTAMP:20260423T010004Z
DESCRIPTION:Organist/in:\n Ältester/e:\n \n Weitere Termine:\n Jeden Mi. 28
 .01.2026 bis 02.02.2028\, 06:00 Uhr\n \n Veranstaltungsort:\n Evang. Petru
 skirche Burgheim\n \n Veranstalter:\n Kirchengemeinde Musterhausen
DTSTART;TZID=Europe/Berlin:20260520T060000
DTEND;TZID=Europe/Berlin:20260520T070000
LOCATION:Evang. Petruskirche Burgheim
SUMMARY:Gottesdienst
X-ALT-DESC;FMTTYPE=text/html:Organist/in: <br />Ältester/e: <br /><br />Wei
 tere Termine:<br />Jeden Mi. 28.01.2026 bis 02.02.2028\, 06:00 Uhr<br /><b
 r />Veranstaltungsort: <br />Evang. Petruskirche Burgheim<br /><br />Veran
 stalter: <br />Kirchengemeinde Musterhausen
END:VEVENT
END:VCALENDAR
