BEGIN:VCALENDAR
VERSION:2.0
PRODID:-//demo.eki-musterhausen.de//NONSGML kigkonsult.se iCalcreator 2.41.92//
CALSCALE:GREGORIAN
METHOD:PUBLISH
UID:36353335-6466-4361-b937-383233303162
X-WR-TIMEZONE:Europe/Berlin
X-LIC-LOCATION:Europe/Berlin
BEGIN:VTIMEZONE
TZID:Europe/Berlin
BEGIN:DAYLIGHT
TZOFFSETFROM:+0100
TZOFFSETTO:+0200
TZNAME:CEST
DTSTART:19700329T020000
RRULE:FREQ=YEARLY;BYDAY=-1SU;BYMONTH=3
END:DAYLIGHT
BEGIN:STANDARD
TZOFFSETFROM:+0200
TZOFFSETTO:+0100
TZNAME:CET
DTSTART:19701025T030000
RRULE:FREQ=YEARLY;BYDAY=-1SU;BYMONTH=10
END:STANDARD
END:VTIMEZONE
BEGIN:VEVENT
UID:35393463-6265-4037-b039-353334663731
DTSTAMP:20260422T021407Z
DESCRIPTION:Gottesdienst\n \n Weitere Termine:\n Jeden 3. Do. im Monat\, 15
 .01.2026 - 21.01.2027\, 13:00 Uhr Außer am: Do. 21.05.2026 Do. 20.08.2026
 \n Alle 2 Wochen\, Sa. 28.02.2026 bis 13.03.2027\, 20:00 Uhr Außer am: Sa.
  01.08.2026 Sa. 15.08.2026 Sa. 29.08.2026\n Do. 28.05.2026\, 13:00 Uhr\n 
 \n Veranstaltungsort:\n Evang. Kirche Huchenfeld\n An der Kirche 5\n 75181
  Pforzheim\n \n Veranstalter:\n Kirchengemeinde Musterhausen\n https://www
 .ekiba.de/infothek/arbeitsfelder/ichbinlang
DTSTART;TZID=Europe/Berlin:20260425T200000
DTEND;TZID=Europe/Berlin:20260425T210000
LOCATION:Evang. Kirche Huchenfeld\n - An der Kirche 5\n - 75181 Pforzheim
SUMMARY:Abendgottesdienst
X-ALT-DESC;FMTTYPE=text/html:Gottesdienst<br /><br />Weitere Termine:<br />
 Jeden 3. Do. im Monat\, 15.01.2026 - 21.01.2027\, 13:00 Uhr Außer am:\n Do
 . 21.05.2026\n Do. 20.08.2026<br />Alle 2 Wochen\, Sa. 28.02.2026 bis 13.0
 3.2027\, 20:00 Uhr Außer am:\n Sa. 01.08.2026\n Sa. 15.08.2026\n Sa. 29.08
 .2026<br />Do. 28.05.2026\, 13:00 Uhr<br /><br />Veranstaltungsort: <br />
 Evang. Kirche Huchenfeld<br />An der Kirche 5<br />75181 Pforzheim<br /><b
 r />Veranstalter: <br />Kirchengemeinde Musterhausen<br />https://www.ekib
 a.de/infothek/arbeitsfelder/ichbinlang
END:VEVENT
END:VCALENDAR
