BEGIN:VCALENDAR
VERSION:2.0
PRODID:-//demo.eki-musterhausen.de//NONSGML kigkonsult.se iCalcreator 2.41.92//
CALSCALE:GREGORIAN
METHOD:PUBLISH
UID:62333961-6230-4631-b366-346435616539
X-WR-TIMEZONE:Europe/Berlin
X-LIC-LOCATION:Europe/Berlin
BEGIN:VTIMEZONE
TZID:Europe/Berlin
BEGIN:DAYLIGHT
TZOFFSETFROM:+0100
TZOFFSETTO:+0200
TZNAME:CEST
DTSTART:19700329T020000
RRULE:FREQ=YEARLY;BYDAY=-1SU;BYMONTH=3
END:DAYLIGHT
BEGIN:STANDARD
TZOFFSETFROM:+0200
TZOFFSETTO:+0100
TZNAME:CET
DTSTART:19701025T030000
RRULE:FREQ=YEARLY;BYDAY=-1SU;BYMONTH=10
END:STANDARD
END:VTIMEZONE
BEGIN:VEVENT
UID:35656361-3734-4566-b366-666365653762
DTSTAMP:20260423T043702Z
DESCRIPTION:Weitere Termine:\n Jeden 4. So. im Monat\, 25.02.2024 - 24.01.2
 027\, 10:30 Uhr\n Mo. 24.08.2026\, 15:30 Uhr\n \n Für jeden\, insbesondere
  für Familien.\n \n Veranstaltungsort:\n Bergkirche\n Pforzheimer Straße 1
 0\n 75180 Pforzheim\n \n Veranstalter:\n Kirchengemeinde Musterhausen
DTSTART;TZID=Europe/Berlin:20260426T103000
DTEND;TZID=Europe/Berlin:20260426T113000
LOCATION:Bergkirche\n - Pforzheimer Straße 10\n - 75180 Pforzheim
SUMMARY:Familiengottesdienst
X-ALT-DESC;FMTTYPE=text/html:Weitere Termine:<br />Jeden 4. So. im Monat\, 
 25.02.2024 - 24.01.2027\, 10:30 Uhr<br />Mo. 24.08.2026\, 15:30 Uhr<br /><
 br />Für jeden\, insbesondere für Familien.<br /><br />Veranstaltungsort: 
 <br />Bergkirche<br />Pforzheimer Straße 10<br />75180 Pforzheim<br /><br 
 />Veranstalter: <br />Kirchengemeinde Musterhausen
END:VEVENT
END:VCALENDAR
