BEGIN:VCALENDAR
VERSION:2.0
PRODID:-//demo.eki-musterhausen.de//NONSGML kigkonsult.se iCalcreator 2.41.92//
CALSCALE:GREGORIAN
METHOD:PUBLISH
UID:33316461-3862-4833-b362-613532663434
X-WR-TIMEZONE:Europe/Berlin
X-LIC-LOCATION:Europe/Berlin
BEGIN:VTIMEZONE
TZID:Europe/Berlin
BEGIN:DAYLIGHT
TZOFFSETFROM:+0100
TZOFFSETTO:+0200
TZNAME:CEST
DTSTART:19700329T020000
RRULE:FREQ=YEARLY;BYDAY=-1SU;BYMONTH=3
END:DAYLIGHT
BEGIN:STANDARD
TZOFFSETFROM:+0200
TZOFFSETTO:+0100
TZNAME:CET
DTSTART:19701025T030000
RRULE:FREQ=YEARLY;BYDAY=-1SU;BYMONTH=10
END:STANDARD
END:VTIMEZONE
BEGIN:VEVENT
UID:66393531-3031-4561-b139-396262313835
DTSTAMP:20260424T074438Z
DESCRIPTION:Gottesdienst\n \n Weitere Termine:\n Alle 2 Wochen\, Di. 02.12.
 2025 bis 14.12.2027\, 13:00 Uhr\n \n Veranstaltungsort:\n Evang. Christusk
 irche Lahr\n Jammstraße 2\n 77933 Lahr/Schwarzwald\n \n Veranstalter:\n Ki
 rchengemeinde Musterhausen\n https://www.ekiba.de/infothek/arbeitsfelder/i
 chbinlang
DTSTART;TZID=Europe/Berlin:20261103T130000
DTEND;TZID=Europe/Berlin:20261103T140000
LOCATION:Evang. Christuskirche Lahr\n - Jammstraße 2\n - 77933 Lahr/Schwarz
 wald
SUMMARY:Gottesdienst
X-ALT-DESC;FMTTYPE=text/html:Gottesdienst<br /><br />Weitere Termine:<br />
 Alle 2 Wochen\, Di. 02.12.2025 bis 14.12.2027\, 13:00 Uhr<br /><br />Veran
 staltungsort: <br />Evang. Christuskirche Lahr<br />Jammstraße 2<br />7793
 3 Lahr/Schwarzwald<br /><br />Veranstalter: <br />Kirchengemeinde Musterha
 usen<br />https://www.ekiba.de/infothek/arbeitsfelder/ichbinlang
END:VEVENT
END:VCALENDAR
