BEGIN:VCALENDAR
VERSION:2.0
PRODID:-//demo.eki-musterhausen.de//NONSGML kigkonsult.se iCalcreator 2.41.92//
CALSCALE:GREGORIAN
METHOD:PUBLISH
UID:65326437-3634-4631-a536-666336643865
X-WR-TIMEZONE:Europe/Berlin
X-LIC-LOCATION:Europe/Berlin
BEGIN:VTIMEZONE
TZID:Europe/Berlin
BEGIN:DAYLIGHT
TZOFFSETFROM:+0100
TZOFFSETTO:+0200
TZNAME:CEST
DTSTART:19700329T020000
RRULE:FREQ=YEARLY;BYDAY=-1SU;BYMONTH=3
END:DAYLIGHT
BEGIN:STANDARD
TZOFFSETFROM:+0200
TZOFFSETTO:+0100
TZNAME:CET
DTSTART:19701025T030000
RRULE:FREQ=YEARLY;BYDAY=-1SU;BYMONTH=10
END:STANDARD
END:VTIMEZONE
BEGIN:VEVENT
UID:36393265-3433-4434-a637-333262393637
DTSTAMP:20260422T233726Z
DESCRIPTION:Gottesdienst\n \n Gestaltung: Dr. Max Rustermann\n \n Weitere T
 ermine:\n Alle 2 Wochen\, Di. 02.12.2025 bis 14.12.2027\, 13:00 Uhr\n \n V
 eranstaltungsort:\n Evang. Christuskirche Lahr\n Jammstraße 2\n 77933 Lahr
 /Schwarzwald\n \n Veranstalter:\n Kirchengemeinde Musterhausen\n https://w
 ww.ekiba.de/infothek/arbeitsfelder/ichbinlang
DTSTART;TZID=Europe/Berlin:20260505T130000
DTEND;TZID=Europe/Berlin:20260505T140000
LOCATION:Evang. Christuskirche Lahr\n - Jammstraße 2\n - 77933 Lahr/Schwarz
 wald
SUMMARY:Gottesdienst
X-ALT-DESC;FMTTYPE=text/html:Gottesdienst<br /><br />Gestaltung: Dr. Max Ru
 stermann<br /><br />Weitere Termine:<br />Alle 2 Wochen\, Di. 02.12.2025 b
 is 14.12.2027\, 13:00 Uhr<br /><br />Veranstaltungsort: <br />Evang. Chris
 tuskirche Lahr<br />Jammstraße 2<br />77933 Lahr/Schwarzwald<br /><br />Ve
 ranstalter: <br />Kirchengemeinde Musterhausen<br />https://www.ekiba.de/i
 nfothek/arbeitsfelder/ichbinlang
END:VEVENT
END:VCALENDAR
