BEGIN:VCALENDAR
VERSION:2.0
PRODID:-//demo.eki-musterhausen.de//NONSGML kigkonsult.se iCalcreator 2.41.92//
CALSCALE:GREGORIAN
METHOD:PUBLISH
UID:37353633-6466-4133-a631-306566386333
X-WR-TIMEZONE:Europe/Berlin
X-LIC-LOCATION:Europe/Berlin
BEGIN:VTIMEZONE
TZID:Europe/Berlin
BEGIN:DAYLIGHT
TZOFFSETFROM:+0100
TZOFFSETTO:+0200
TZNAME:CEST
DTSTART:19700329T020000
RRULE:FREQ=YEARLY;BYDAY=-1SU;BYMONTH=3
END:DAYLIGHT
BEGIN:STANDARD
TZOFFSETFROM:+0200
TZOFFSETTO:+0100
TZNAME:CET
DTSTART:19701025T030000
RRULE:FREQ=YEARLY;BYDAY=-1SU;BYMONTH=10
END:STANDARD
END:VTIMEZONE
BEGIN:VEVENT
UID:61353364-3736-4532-b430-383230663838
DTSTAMP:20260423T055045Z
DESCRIPTION:Gestaltung: Ben Müller\n Organist/in:\n Kirchendiener/in:\n \n 
 Weitere Termine:\n Jeden Mi. 15.10.2025 bis 13.10.2027\, 06:00 Uhr\n Jeden
  Di. 02.12.2025 bis 21.12.2027\, 09:00 Uhr\n \n Veranstaltungsort:\n Gemei
 ndehaus Musterhausen\n Fritz-Neuert-Straße 32\n 77656 Musterhausen\n \n Ve
 ranstalter:\n Kirchengemeinde Musterhausen
DTSTART;TZID=Europe/Berlin:20260506T060000
DTEND;TZID=Europe/Berlin:20260506T063000
LOCATION:Gemeindehaus Musterhausen\n - Fritz-Neuert-Straße 32\n - 77656 Mus
 terhausen
SUMMARY:Morgengebet
X-ALT-DESC;FMTTYPE=text/html:Gestaltung: Ben Müller<br />Organist/in: <br /
 >Kirchendiener/in: <br /><br />Weitere Termine:<br />Jeden Mi. 15.10.2025 
 bis 13.10.2027\, 06:00 Uhr<br />Jeden Di. 02.12.2025 bis 21.12.2027\, 09:0
 0 Uhr<br /><br />Veranstaltungsort: <br />Gemeindehaus Musterhausen<br />F
 ritz-Neuert-Straße 32<br />77656 Musterhausen<br /><br />Veranstalter: <br
  />Kirchengemeinde Musterhausen
END:VEVENT
END:VCALENDAR
