BEGIN:VCALENDAR
VERSION:2.0
PRODID:-//demo.eki-musterhausen.de//NONSGML kigkonsult.se iCalcreator 2.41.92//
CALSCALE:GREGORIAN
METHOD:PUBLISH
UID:62353062-3230-4232-b263-393965613064
X-WR-TIMEZONE:Europe/Berlin
X-LIC-LOCATION:Europe/Berlin
BEGIN:VTIMEZONE
TZID:Europe/Berlin
BEGIN:DAYLIGHT
TZOFFSETFROM:+0100
TZOFFSETTO:+0200
TZNAME:CEST
DTSTART:19700329T020000
RRULE:FREQ=YEARLY;BYDAY=-1SU;BYMONTH=3
END:DAYLIGHT
BEGIN:STANDARD
TZOFFSETFROM:+0200
TZOFFSETTO:+0100
TZNAME:CET
DTSTART:19701025T030000
RRULE:FREQ=YEARLY;BYDAY=-1SU;BYMONTH=10
END:STANDARD
END:VTIMEZONE
BEGIN:VEVENT
UID:33376538-3334-4633-a632-336565393136
DTSTAMP:20260425T112431Z
DESCRIPTION:Weitere Termine:\n Jeden 4. So. im Monat\, 25.02.2024 - 24.01.2
 027\, 10:30 Uhr\n \n Für jeden\, insbesondere für Familien.\n \n Veranstal
 tungsort:\n Bergkirche\n Pforzheimer Straße 10\n 75180 Pforzheim\n \n Vera
 nstalter:\n Kirchengemeinde Musterhausen
DTSTART;TZID=Europe/Berlin:20260824T153000
DTEND;TZID=Europe/Berlin:20260824T163000
LOCATION:Bergkirche\n - Pforzheimer Straße 10\n - 75180 Pforzheim
SUMMARY:Familiengottesdienst
X-ALT-DESC;FMTTYPE=text/html:Weitere Termine:<br />Jeden 4. So. im Monat\, 
 25.02.2024 - 24.01.2027\, 10:30 Uhr<br /><br />Für jeden\, insbesondere fü
 r Familien.<br /><br />Veranstaltungsort: <br />Bergkirche<br />Pforzheime
 r Straße 10<br />75180 Pforzheim<br /><br />Veranstalter: <br />Kirchengem
 einde Musterhausen
END:VEVENT
END:VCALENDAR
