BEGIN:VCALENDAR
VERSION:2.0
PRODID:-//demo.eki-musterhausen.de//NONSGML kigkonsult.se iCalcreator 2.41.92//
CALSCALE:GREGORIAN
METHOD:PUBLISH
UID:63636166-3164-4637-b764-393365626332
X-WR-TIMEZONE:Europe/Berlin
X-LIC-LOCATION:Europe/Berlin
BEGIN:VTIMEZONE
TZID:Europe/Berlin
BEGIN:DAYLIGHT
TZOFFSETFROM:+0100
TZOFFSETTO:+0200
TZNAME:CEST
DTSTART:19700329T020000
RRULE:FREQ=YEARLY;BYDAY=-1SU;BYMONTH=3
END:DAYLIGHT
BEGIN:STANDARD
TZOFFSETFROM:+0200
TZOFFSETTO:+0100
TZNAME:CET
DTSTART:19701025T030000
RRULE:FREQ=YEARLY;BYDAY=-1SU;BYMONTH=10
END:STANDARD
END:VTIMEZONE
BEGIN:VEVENT
UID:65363637-3166-4231-b536-613365373437
DTSTAMP:20260423T034117Z
DESCRIPTION:Weitere Termine:\n Jeden Di. und Do. 22.05.2025 bis 17.06.2027\
 , 09:00 Uhr\n Fr. 22.05.2026\, 09:00 Uhr\n \n Veranstaltungsort:\n Matthäu
 skirche\n Hochkopfstraße 30\n 75179 Pforzheim\n \n Veranstalter:\n Kirchen
 gemeinde Musterhausen
DTSTART;TZID=Europe/Berlin:20260423T090000
DTEND;TZID=Europe/Berlin:20260423T100000
LOCATION:Matthäuskirche\n - Hochkopfstraße 30\n - 75179 Pforzheim
SUMMARY:Abendgottesdienst
X-ALT-DESC;FMTTYPE=text/html:Weitere Termine:<br />Jeden Di. und Do. 22.05.
 2025 bis 17.06.2027\, 09:00 Uhr<br />Fr. 22.05.2026\, 09:00 Uhr<br /><br /
 >Veranstaltungsort: <br />Matthäuskirche<br />Hochkopfstraße 30<br />75179
  Pforzheim<br /><br />Veranstalter: <br />Kirchengemeinde Musterhausen
END:VEVENT
END:VCALENDAR
