BEGIN:VCALENDAR
VERSION:2.0
PRODID:-//demo.eki-musterhausen.de//NONSGML kigkonsult.se iCalcreator 2.41.92//
CALSCALE:GREGORIAN
METHOD:PUBLISH
UID:30303130-6537-4164-b836-623937653535
X-WR-TIMEZONE:Europe/Berlin
X-LIC-LOCATION:Europe/Berlin
BEGIN:VTIMEZONE
TZID:Europe/Berlin
BEGIN:DAYLIGHT
TZOFFSETFROM:+0100
TZOFFSETTO:+0200
TZNAME:CEST
DTSTART:19700329T020000
RRULE:FREQ=YEARLY;BYDAY=-1SU;BYMONTH=3
END:DAYLIGHT
BEGIN:STANDARD
TZOFFSETFROM:+0200
TZOFFSETTO:+0100
TZNAME:CET
DTSTART:19701025T030000
RRULE:FREQ=YEARLY;BYDAY=-1SU;BYMONTH=10
END:STANDARD
END:VTIMEZONE
BEGIN:VEVENT
UID:65393638-3361-4237-b734-613931373133
DTSTAMP:20260422T233731Z
DESCRIPTION:mit Abendmahl\n \n Gottesdienst\n \n Gestaltung:\n \n Weitere T
 ermine:\n Jeden Mo. 05.08.2024 bis 19.07.2027\, 12:00 Uhr\n Jeden So. 05.0
 1.2025 bis 24.01.2027\, 09:00 Uhr\n \n Veranstaltungsort:\n Matthäuskirche
 \n Hochkopfstraße 30\n 75179 Pforzheim\n \n Veranstalter:\n Kindergarten H
 immelszelt\n Musterstr. 1
DTSTART;TZID=Europe/Berlin:20260510T090000
DTEND;TZID=Europe/Berlin:20260510T093000
LOCATION:Matthäuskirche\n - Hochkopfstraße 30\n - 75179 Pforzheim
SUMMARY:Gottesdienst
X-ALT-DESC;FMTTYPE=text/html:mit Abendmahl<br /><br />Gottesdienst<br /><br
  />Gestaltung: <br /><br />Weitere Termine:<br />Jeden Mo. 05.08.2024 bis 
 19.07.2027\, 12:00 Uhr<br />Jeden So. 05.01.2025 bis 24.01.2027\, 09:00 Uh
 r<br /><br />Veranstaltungsort: <br />Matthäuskirche<br />Hochkopfstraße 3
 0<br />75179 Pforzheim<br /><br />Veranstalter: <br />Kindergarten Himmels
 zelt<br />Musterstr. 1
END:VEVENT
END:VCALENDAR
