BEGIN:VCALENDAR
VERSION:2.0
PRODID:-//demo.eki-musterhausen.de//NONSGML kigkonsult.se iCalcreator 2.41.92//
CALSCALE:GREGORIAN
METHOD:PUBLISH
UID:33623361-3634-4339-b639-666465393866
X-WR-TIMEZONE:Europe/Berlin
X-LIC-LOCATION:Europe/Berlin
BEGIN:VTIMEZONE
TZID:Europe/Berlin
BEGIN:DAYLIGHT
TZOFFSETFROM:+0100
TZOFFSETTO:+0200
TZNAME:CEST
DTSTART:19700329T020000
RRULE:FREQ=YEARLY;BYDAY=-1SU;BYMONTH=3
END:DAYLIGHT
BEGIN:STANDARD
TZOFFSETFROM:+0200
TZOFFSETTO:+0100
TZNAME:CET
DTSTART:19701025T030000
RRULE:FREQ=YEARLY;BYDAY=-1SU;BYMONTH=10
END:STANDARD
END:VTIMEZONE
BEGIN:VEVENT
UID:37663930-3633-4265-a532-633062663236
DTSTAMP:20260423T045332Z
DESCRIPTION:Gottesdienst\n \n Weitere Termine:\n Jeden Mo. 19.02.2024 bis 0
 7.06.2027\, 18:00 Uhr\n Fr. 04.12.2026\, 15:00 Uhr\n \n Veranstaltungsort:
 \n Achern Christuskirche\n Bananenstr. 8\n 77855 Achern\n \n Veranstalter:
 \n Kirchengemeinde Musterhausen\n https://www.ekiba.de/infothek/arbeitsfel
 der/ichbinlang
DTSTART;TZID=Europe/Berlin:20260504T180000
DTEND;TZID=Europe/Berlin:20260504T190000
LOCATION:Achern Christuskirche\n - Bananenstr. 8\n - 77855 Achern
SUMMARY:Abendandacht
X-ALT-DESC;FMTTYPE=text/html:Gottesdienst<br /><br />Weitere Termine:<br />
 Jeden Mo. 19.02.2024 bis 07.06.2027\, 18:00 Uhr<br />Fr. 04.12.2026\, 15:0
 0 Uhr<br /><br />Veranstaltungsort: <br />Achern Christuskirche<br />Banan
 enstr. 8<br />77855 Achern<br /><br />Veranstalter: <br />Kirchengemeinde 
 Musterhausen<br />https://www.ekiba.de/infothek/arbeitsfelder/ichbinlang
END:VEVENT
END:VCALENDAR
