BEGIN:VCALENDAR
VERSION:2.0
PRODID:-//demo.eki-musterhausen.de//NONSGML kigkonsult.se iCalcreator 2.41.92//
CALSCALE:GREGORIAN
METHOD:PUBLISH
UID:30626263-3436-4536-b938-393761333764
X-WR-TIMEZONE:Europe/Berlin
X-LIC-LOCATION:Europe/Berlin
BEGIN:VTIMEZONE
TZID:Europe/Berlin
BEGIN:DAYLIGHT
TZOFFSETFROM:+0100
TZOFFSETTO:+0200
TZNAME:CEST
DTSTART:19700329T020000
RRULE:FREQ=YEARLY;BYDAY=-1SU;BYMONTH=3
END:DAYLIGHT
BEGIN:STANDARD
TZOFFSETFROM:+0200
TZOFFSETTO:+0100
TZNAME:CET
DTSTART:19701025T030000
RRULE:FREQ=YEARLY;BYDAY=-1SU;BYMONTH=10
END:STANDARD
END:VTIMEZONE
BEGIN:VEVENT
UID:65653936-3638-4866-b837-313331376238
DTSTAMP:20260422T233651Z
DESCRIPTION:Gottesdienst\n \n (Pfrin. Mühlenberg-Knebel)\n \n Veranstaltung
 sort:\n Kirchengemeindehaus Hephata Ottersweier\n Mooslandstraße 1\n 77833
  Ottersweier\n \n Veranstalter:\n Gemeinde: KG Bühlertal - Pfarramt: Bühle
 rtal\n Hindenburgstraße 23\n 77830 Bühlertal\n Telefon: 07223-72421
DTSTART;TZID=Europe/Berlin:20260510T100000
DTEND;TZID=Europe/Berlin:20260510T110000
LOCATION:Kirchengemeindehaus Hephata Ottersweier\n - Mooslandstraße 1\n - 7
 7833 Ottersweier
SUMMARY:Gottesdienst
X-ALT-DESC;FMTTYPE=text/html:Gottesdienst<br /><br />(Pfrin. Mühlenberg-Kne
 bel)<br /><br />Veranstaltungsort: <br />Kirchengemeindehaus Hephata Otter
 sweier<br />Mooslandstraße 1<br />77833 Ottersweier<br /><br />Veranstalte
 r: <br />Gemeinde: KG Bühlertal - Pfarramt: Bühlertal<br />Hindenburgstraß
 e 23<br />77830 Bühlertal<br />Telefon: 07223-72421
END:VEVENT
END:VCALENDAR
