BEGIN:VCALENDAR
VERSION:2.0
PRODID:-//demo.eki-musterhausen.de//NONSGML kigkonsult.se iCalcreator 2.41.92//
CALSCALE:GREGORIAN
METHOD:PUBLISH
UID:34373732-3833-4339-b530-376637616632
X-WR-TIMEZONE:Europe/Berlin
X-LIC-LOCATION:Europe/Berlin
BEGIN:VTIMEZONE
TZID:Europe/Berlin
BEGIN:DAYLIGHT
TZOFFSETFROM:+0100
TZOFFSETTO:+0200
TZNAME:CEST
DTSTART:19700329T020000
RRULE:FREQ=YEARLY;BYDAY=-1SU;BYMONTH=3
END:DAYLIGHT
BEGIN:STANDARD
TZOFFSETFROM:+0200
TZOFFSETTO:+0100
TZNAME:CET
DTSTART:19701025T030000
RRULE:FREQ=YEARLY;BYDAY=-1SU;BYMONTH=10
END:STANDARD
END:VTIMEZONE
BEGIN:VEVENT
UID:34653863-3762-4234-b936-303135373632
DTSTAMP:20260422T015231Z
DESCRIPTION:Gottesdienst\n \n (Pfrin. Walz S.)\n \n Veranstaltungsort:\n Ev
 ang. Kirche Forbach\n Schifferstraße 11\n 76596 Forbach\n \n Veranstalter:
 \n Gemeinde: KG Forbach-Weisenbach - Pfarramt: Forbach-Weisenbach\n Schiff
 erstraße 13\n 76596 Forbach-Weisenbach\n Telefon: 07228-2344
DTSTART;TZID=Europe/Berlin:20260503T100000
DTEND;TZID=Europe/Berlin:20260503T110000
LOCATION:Evang. Kirche Forbach\n - Schifferstraße 11\n - 76596 Forbach
SUMMARY:Gottesdienst
X-ALT-DESC;FMTTYPE=text/html:Gottesdienst<br /><br />(Pfrin. Walz S.)<br />
 <br />Veranstaltungsort: <br />Evang. Kirche Forbach<br />Schifferstraße 1
 1<br />76596 Forbach<br /><br />Veranstalter: <br />Gemeinde: KG Forbach-W
 eisenbach - Pfarramt: Forbach-Weisenbach<br />Schifferstraße 13<br />76596
  Forbach-Weisenbach<br />Telefon: 07228-2344
END:VEVENT
END:VCALENDAR
