BEGIN:VCALENDAR
VERSION:2.0
PRODID:-//demo.eki-musterhausen.de//NONSGML kigkonsult.se iCalcreator 2.41.92//
CALSCALE:GREGORIAN
METHOD:PUBLISH
UID:31393639-3561-4334-b063-643161343432
X-WR-TIMEZONE:Europe/Berlin
X-LIC-LOCATION:Europe/Berlin
BEGIN:VTIMEZONE
TZID:Europe/Berlin
BEGIN:DAYLIGHT
TZOFFSETFROM:+0100
TZOFFSETTO:+0200
TZNAME:CEST
DTSTART:19700329T020000
RRULE:FREQ=YEARLY;BYDAY=-1SU;BYMONTH=3
END:DAYLIGHT
BEGIN:STANDARD
TZOFFSETFROM:+0200
TZOFFSETTO:+0100
TZNAME:CET
DTSTART:19701025T030000
RRULE:FREQ=YEARLY;BYDAY=-1SU;BYMONTH=10
END:STANDARD
END:VTIMEZONE
BEGIN:VEVENT
UID:38343339-6561-4037-a166-396535353965
DTSTAMP:20260422T075155Z
DESCRIPTION:Gottesdienst\n \n Weitere Termine:\n Jeden Mi. 28.01.2026 bis 0
 2.02.2028\, 06:00 Uhr\n \n Veranstaltungsort:\n Evang. Petruskirche Burghe
 im\n \n Veranstalter:\n Kirchengemeinde Musterhausen\n https://www.ekiba.d
 e/infothek/arbeitsfelder/ichbinlang
DTSTART;TZID=Europe/Berlin:20260506T060000
DTEND;TZID=Europe/Berlin:20260506T070000
LOCATION:Evang. Petruskirche Burgheim
SUMMARY:Gottesdienst
X-ALT-DESC;FMTTYPE=text/html:Gottesdienst<br /><br />Weitere Termine:<br />
 Jeden Mi. 28.01.2026 bis 02.02.2028\, 06:00 Uhr<br /><br />Veranstaltungso
 rt: <br />Evang. Petruskirche Burgheim<br /><br />Veranstalter: <br />Kirc
 hengemeinde Musterhausen<br />https://www.ekiba.de/infothek/arbeitsfelder/
 ichbinlang
END:VEVENT
END:VCALENDAR
