BEGIN:VCALENDAR
VERSION:2.0
PRODID:-//demo.eki-musterhausen.de//NONSGML kigkonsult.se iCalcreator 2.41.92//
CALSCALE:GREGORIAN
METHOD:PUBLISH
UID:31353466-3938-4539-b534-386464376236
X-WR-TIMEZONE:Europe/Berlin
X-LIC-LOCATION:Europe/Berlin
BEGIN:VTIMEZONE
TZID:Europe/Berlin
BEGIN:DAYLIGHT
TZOFFSETFROM:+0100
TZOFFSETTO:+0200
TZNAME:CEST
DTSTART:19700329T020000
RRULE:FREQ=YEARLY;BYDAY=-1SU;BYMONTH=3
END:DAYLIGHT
BEGIN:STANDARD
TZOFFSETFROM:+0200
TZOFFSETTO:+0100
TZNAME:CET
DTSTART:19701025T030000
RRULE:FREQ=YEARLY;BYDAY=-1SU;BYMONTH=10
END:STANDARD
END:VTIMEZONE
BEGIN:VEVENT
UID:66306434-3131-4535-b331-663039333837
DTSTAMP:20260423T112800Z
DESCRIPTION:Gottesdienst\n \n Gestaltung: Ben Müller\n Organist/in:\n Lekto
 r/in:\n Kirchendiener/in:\n \n Weitere Termine:\n Jeden Mi. 15.10.2025 bis
  13.10.2027\, 06:00 Uhr\n Jeden Di. 02.12.2025 bis 21.12.2027\, 09:00 Uhr
 \n \n Veranstaltungsort:\n Gemeindehaus Musterhausen\n Fritz-Neuert-Straße
  32\n 77656 Musterhausen\n \n Veranstalter:\n Kirchengemeinde Musterhausen
 \n https://www.ekiba.de/infothek/arbeitsfelder/ichbinlang
DTSTART;TZID=Europe/Berlin:20260721T090000
DTEND;TZID=Europe/Berlin:20260721T100000
LOCATION:Gemeindehaus Musterhausen\n - Fritz-Neuert-Straße 32\n - 77656 Mus
 terhausen
SUMMARY:Morgengebet
X-ALT-DESC;FMTTYPE=text/html:Gottesdienst<br /><br />Gestaltung: Ben Müller
 <br />Organist/in: <br />Lektor/in: <br />Kirchendiener/in: <br /><br />We
 itere Termine:<br />Jeden Mi. 15.10.2025 bis 13.10.2027\, 06:00 Uhr<br />J
 eden Di. 02.12.2025 bis 21.12.2027\, 09:00 Uhr<br /><br />Veranstaltungsor
 t: <br />Gemeindehaus Musterhausen<br />Fritz-Neuert-Straße 32<br />77656 
 Musterhausen<br /><br />Veranstalter: <br />Kirchengemeinde Musterhausen<b
 r />https://www.ekiba.de/infothek/arbeitsfelder/ichbinlang
END:VEVENT
END:VCALENDAR
