BEGIN:VCALENDAR
VERSION:2.0
PRODID:-//demo.eki-musterhausen.de//NONSGML kigkonsult.se iCalcreator 2.41.92//
CALSCALE:GREGORIAN
METHOD:PUBLISH
UID:30343466-3239-4364-b038-313039353663
X-WR-TIMEZONE:Europe/Berlin
X-LIC-LOCATION:Europe/Berlin
BEGIN:VTIMEZONE
TZID:Europe/Berlin
BEGIN:DAYLIGHT
TZOFFSETFROM:+0100
TZOFFSETTO:+0200
TZNAME:CEST
DTSTART:19700329T020000
RRULE:FREQ=YEARLY;BYDAY=-1SU;BYMONTH=3
END:DAYLIGHT
BEGIN:STANDARD
TZOFFSETFROM:+0200
TZOFFSETTO:+0100
TZNAME:CET
DTSTART:19701025T030000
RRULE:FREQ=YEARLY;BYDAY=-1SU;BYMONTH=10
END:STANDARD
END:VTIMEZONE
BEGIN:VEVENT
UID:34323334-3836-4338-b561-373030376631
DTSTAMP:20260423T042534Z
DESCRIPTION:Gestaltung: Ben Müller\n Organist/in:\n Lektor/in:\n Kirchendie
 ner/in:\n \n Weitere Termine:\n Jeden Mi. 15.10.2025 bis 13.10.2027\, 06:0
 0 Uhr\n Jeden Di. 02.12.2025 bis 21.12.2027\, 09:00 Uhr\n \n Veranstaltung
 sort:\n Gemeindehaus Musterhausen\n Fritz-Neuert-Straße 32\n 77656 Musterh
 ausen\n \n Veranstalter:\n Kirchengemeinde Musterhausen
DTSTART;TZID=Europe/Berlin:20260707T090000
DTEND;TZID=Europe/Berlin:20260707T100000
LOCATION:Gemeindehaus Musterhausen\n - Fritz-Neuert-Straße 32\n - 77656 Mus
 terhausen
SUMMARY:Morgengebet
X-ALT-DESC;FMTTYPE=text/html:Gestaltung: Ben Müller<br />Organist/in: <br /
 >Lektor/in: <br />Kirchendiener/in: <br /><br />Weitere Termine:<br />Jede
 n Mi. 15.10.2025 bis 13.10.2027\, 06:00 Uhr<br />Jeden Di. 02.12.2025 bis 
 21.12.2027\, 09:00 Uhr<br /><br />Veranstaltungsort: <br />Gemeindehaus Mu
 sterhausen<br />Fritz-Neuert-Straße 32<br />77656 Musterhausen<br /><br />
 Veranstalter: <br />Kirchengemeinde Musterhausen
END:VEVENT
END:VCALENDAR
