BEGIN:VCALENDAR
VERSION:2.0
PRODID:-//demo.eki-musterhausen.de//NONSGML kigkonsult.se iCalcreator 2.41.92//
CALSCALE:GREGORIAN
METHOD:PUBLISH
UID:64363038-6565-4937-a464-393131653965
X-WR-TIMEZONE:Europe/Berlin
X-LIC-LOCATION:Europe/Berlin
BEGIN:VTIMEZONE
TZID:Europe/Berlin
BEGIN:DAYLIGHT
TZOFFSETFROM:+0100
TZOFFSETTO:+0200
TZNAME:CEST
DTSTART:19700329T020000
RRULE:FREQ=YEARLY;BYDAY=-1SU;BYMONTH=3
END:DAYLIGHT
BEGIN:STANDARD
TZOFFSETFROM:+0200
TZOFFSETTO:+0100
TZNAME:CET
DTSTART:19701025T030000
RRULE:FREQ=YEARLY;BYDAY=-1SU;BYMONTH=10
END:STANDARD
END:VTIMEZONE
BEGIN:VEVENT
UID:34386338-6431-4336-b664-343835346434
DTSTAMP:20260423T082630Z
DESCRIPTION:Familiengottesdienste\n \n Weitere Termine:\n Jeden 4. So. im M
 onat\, 25.02.2024 - 24.01.2027\, 10:30 Uhr\n Mo. 24.08.2026\, 15:30 Uhr\n 
 \n Für jeden\, insbesondere für Familien.\n \n Veranstaltungsort:\n Bergki
 rche\n Pforzheimer Straße 10\n 75180 Pforzheim\n \n Veranstalter:\n Kirche
 ngemeinde Musterhausen\n https://www.ekiba.de/infothek/arbeitsfelder/ichbi
 nlang
DTSTART;TZID=Europe/Berlin:20260524T103000
DTEND;TZID=Europe/Berlin:20260524T113000
LOCATION:Bergkirche\n - Pforzheimer Straße 10\n - 75180 Pforzheim
SUMMARY:Familiengottesdienst
X-ALT-DESC;FMTTYPE=text/html:Familiengottesdienste<br /><br />Weitere Termi
 ne:<br />Jeden 4. So. im Monat\, 25.02.2024 - 24.01.2027\, 10:30 Uhr<br />
 Mo. 24.08.2026\, 15:30 Uhr<br /><br />Für jeden\, insbesondere für Familie
 n.<br /><br />Veranstaltungsort: <br />Bergkirche<br />Pforzheimer Straße 
 10<br />75180 Pforzheim<br /><br />Veranstalter: <br />Kirchengemeinde Mus
 terhausen<br />https://www.ekiba.de/infothek/arbeitsfelder/ichbinlang
END:VEVENT
END:VCALENDAR
