BEGIN:VCALENDAR
VERSION:2.0
PRODID:-//demo.eki-musterhausen.de//NONSGML kigkonsult.se iCalcreator 2.41.92//
CALSCALE:GREGORIAN
METHOD:PUBLISH
UID:32333564-3865-4038-b935-396635316663
X-WR-TIMEZONE:Europe/Berlin
X-LIC-LOCATION:Europe/Berlin
BEGIN:VTIMEZONE
TZID:Europe/Berlin
BEGIN:DAYLIGHT
TZOFFSETFROM:+0100
TZOFFSETTO:+0200
TZNAME:CEST
DTSTART:19700329T020000
RRULE:FREQ=YEARLY;BYDAY=-1SU;BYMONTH=3
END:DAYLIGHT
BEGIN:STANDARD
TZOFFSETFROM:+0200
TZOFFSETTO:+0100
TZNAME:CET
DTSTART:19701025T030000
RRULE:FREQ=YEARLY;BYDAY=-1SU;BYMONTH=10
END:STANDARD
END:VTIMEZONE
BEGIN:VEVENT
UID:63393764-6534-4036-b364-393163666663
DTSTAMP:20260423T003400Z
DESCRIPTION:Weitere Termine:\n Jeden Mo. 19.02.2024 bis 07.06.2027\, 18:00 
 Uhr\n Fr. 04.12.2026\, 15:00 Uhr\n \n Veranstaltungsort:\n Achern Christus
 kirche\n Bananenstr. 8\n 77855 Achern\n \n Veranstalter:\n Kirchengemeinde
  Musterhausen
DTSTART;TZID=Europe/Berlin:20261207T180000
DTEND;TZID=Europe/Berlin:20261207T190000
LOCATION:Achern Christuskirche\n - Bananenstr. 8\n - 77855 Achern
SUMMARY:Abendandacht
X-ALT-DESC;FMTTYPE=text/html:Weitere Termine:<br />Jeden Mo. 19.02.2024 bis
  07.06.2027\, 18:00 Uhr<br />Fr. 04.12.2026\, 15:00 Uhr<br /><br />Veranst
 altungsort: <br />Achern Christuskirche<br />Bananenstr. 8<br />77855 Ache
 rn<br /><br />Veranstalter: <br />Kirchengemeinde Musterhausen
END:VEVENT
END:VCALENDAR
