BEGIN:VCALENDAR
VERSION:2.0
PRODID:-//demo.eki-musterhausen.de//NONSGML kigkonsult.se iCalcreator 2.41.92//
CALSCALE:GREGORIAN
METHOD:PUBLISH
UID:31356336-6635-4237-b135-656262643434
X-WR-TIMEZONE:Europe/Berlin
X-LIC-LOCATION:Europe/Berlin
BEGIN:VTIMEZONE
TZID:Europe/Berlin
BEGIN:DAYLIGHT
TZOFFSETFROM:+0100
TZOFFSETTO:+0200
TZNAME:CEST
DTSTART:19700329T020000
RRULE:FREQ=YEARLY;BYDAY=-1SU;BYMONTH=3
END:DAYLIGHT
BEGIN:STANDARD
TZOFFSETFROM:+0200
TZOFFSETTO:+0100
TZNAME:CET
DTSTART:19701025T030000
RRULE:FREQ=YEARLY;BYDAY=-1SU;BYMONTH=10
END:STANDARD
END:VTIMEZONE
BEGIN:VEVENT
UID:61613836-6233-4337-b733-393330353038
DTSTAMP:20260423T112805Z
DESCRIPTION:Gottesdienst\n \n Gestaltung: Dr. Max Rustermann\n Lektor/in: A
 nne Kustermann\n \n Weitere Termine:\n Alle 2 Wochen\, Di. 02.12.2025 bis 
 14.12.2027\, 13:00 Uhr\n \n Veranstaltungsort:\n Evang. Christuskirche Lah
 r\n Jammstraße 2\n 77933 Lahr/Schwarzwald\n \n Veranstalter:\n Kirchengeme
 inde Musterhausen\n https://www.ekiba.de/infothek/arbeitsfelder/ichbinlang
DTSTART;TZID=Europe/Berlin:20260630T130000
DTEND;TZID=Europe/Berlin:20260630T140000
LOCATION:Evang. Christuskirche Lahr\n - Jammstraße 2\n - 77933 Lahr/Schwarz
 wald
SUMMARY:Gottesdienst
X-ALT-DESC;FMTTYPE=text/html:Gottesdienst<br /><br />Gestaltung: Dr. Max Ru
 stermann<br />Lektor/in: Anne Kustermann<br /><br />Weitere Termine:<br />
 Alle 2 Wochen\, Di. 02.12.2025 bis 14.12.2027\, 13:00 Uhr<br /><br />Veran
 staltungsort: <br />Evang. Christuskirche Lahr<br />Jammstraße 2<br />7793
 3 Lahr/Schwarzwald<br /><br />Veranstalter: <br />Kirchengemeinde Musterha
 usen<br />https://www.ekiba.de/infothek/arbeitsfelder/ichbinlang
END:VEVENT
END:VCALENDAR
