BEGIN:VCALENDAR
VERSION:2.0
PRODID:-//demo.eki-musterhausen.de//NONSGML kigkonsult.se iCalcreator 2.41.92//
CALSCALE:GREGORIAN
METHOD:PUBLISH
UID:66373537-6433-4138-b636-376134386466
X-WR-TIMEZONE:Europe/Berlin
X-LIC-LOCATION:Europe/Berlin
BEGIN:VTIMEZONE
TZID:Europe/Berlin
BEGIN:DAYLIGHT
TZOFFSETFROM:+0100
TZOFFSETTO:+0200
TZNAME:CEST
DTSTART:19700329T020000
RRULE:FREQ=YEARLY;BYDAY=-1SU;BYMONTH=3
END:DAYLIGHT
BEGIN:STANDARD
TZOFFSETFROM:+0200
TZOFFSETTO:+0100
TZNAME:CET
DTSTART:19701025T030000
RRULE:FREQ=YEARLY;BYDAY=-1SU;BYMONTH=10
END:STANDARD
END:VTIMEZONE
BEGIN:VEVENT
UID:33663461-6636-4237-a263-383835613363
DTSTAMP:20260423T002407Z
DESCRIPTION:Gestaltung: Dr. Max Rustermann\n Lektor/in: Anne Kustermann\n 
 \n Weitere Termine:\n Alle 2 Wochen\, Di. 02.12.2025 bis 14.12.2027\, 13:0
 0 Uhr\n \n Veranstaltungsort:\n Evang. Christuskirche Lahr\n Jammstraße 2
 \n 77933 Lahr/Schwarzwald\n \n Veranstalter:\n Kirchengemeinde Musterhause
 n
DTSTART;TZID=Europe/Berlin:20260519T130000
DTEND;TZID=Europe/Berlin:20260519T140000
LOCATION:Evang. Christuskirche Lahr\n - Jammstraße 2\n - 77933 Lahr/Schwarz
 wald
SUMMARY:Gottesdienst
X-ALT-DESC;FMTTYPE=text/html:Gestaltung: Dr. Max Rustermann<br />Lektor/in:
  Anne Kustermann<br /><br />Weitere Termine:<br />Alle 2 Wochen\, Di. 02.1
 2.2025 bis 14.12.2027\, 13:00 Uhr<br /><br />Veranstaltungsort: <br />Evan
 g. Christuskirche Lahr<br />Jammstraße 2<br />77933 Lahr/Schwarzwald<br />
 <br />Veranstalter: <br />Kirchengemeinde Musterhausen
END:VEVENT
END:VCALENDAR
