BEGIN:VCALENDAR
VERSION:2.0
PRODID:-//demo.eki-musterhausen.de//NONSGML kigkonsult.se iCalcreator 2.41.92//
CALSCALE:GREGORIAN
METHOD:PUBLISH
UID:63623065-3863-4336-b333-363562636636
X-WR-TIMEZONE:Europe/Berlin
X-LIC-LOCATION:Europe/Berlin
BEGIN:VTIMEZONE
TZID:Europe/Berlin
BEGIN:DAYLIGHT
TZOFFSETFROM:+0100
TZOFFSETTO:+0200
TZNAME:CEST
DTSTART:19700329T020000
RRULE:FREQ=YEARLY;BYDAY=-1SU;BYMONTH=3
END:DAYLIGHT
BEGIN:STANDARD
TZOFFSETFROM:+0200
TZOFFSETTO:+0100
TZNAME:CET
DTSTART:19701025T030000
RRULE:FREQ=YEARLY;BYDAY=-1SU;BYMONTH=10
END:STANDARD
END:VTIMEZONE
BEGIN:VEVENT
UID:32653236-3630-4136-b637-646531636466
DTSTAMP:20260422T215156Z
DESCRIPTION:Gottesdienst\n \n Weitere Termine:\n Jeden Mi. 15.10.2025 bis 1
 3.10.2027\, 06:00 Uhr\n Jeden Di. 02.12.2025 bis 21.12.2027\, 09:00 Uhr\n 
 \n Veranstaltungsort:\n Gemeindehaus Musterhausen\n Fritz-Neuert-Straße 32
 \n 77656 Musterhausen\n \n Veranstalter:\n Kirchengemeinde Musterhausen\n 
 https://www.ekiba.de/infothek/arbeitsfelder/ichbinlang
DTSTART;TZID=Europe/Berlin:20270915T060000
DTEND;TZID=Europe/Berlin:20270915T063000
LOCATION:Gemeindehaus Musterhausen\n - Fritz-Neuert-Straße 32\n - 77656 Mus
 terhausen
SUMMARY:Morgengebet
X-ALT-DESC;FMTTYPE=text/html:Gottesdienst<br /><br />Weitere Termine:<br />
 Jeden Mi. 15.10.2025 bis 13.10.2027\, 06:00 Uhr<br />Jeden Di. 02.12.2025 
 bis 21.12.2027\, 09:00 Uhr<br /><br />Veranstaltungsort: <br />Gemeindehau
 s Musterhausen<br />Fritz-Neuert-Straße 32<br />77656 Musterhausen<br /><b
 r />Veranstalter: <br />Kirchengemeinde Musterhausen<br />https://www.ekib
 a.de/infothek/arbeitsfelder/ichbinlang
END:VEVENT
END:VCALENDAR
