BEGIN:VCALENDAR
VERSION:2.0
PRODID:-//demo.eki-musterhausen.de//NONSGML kigkonsult.se iCalcreator 2.41.92//
CALSCALE:GREGORIAN
METHOD:PUBLISH
UID:33656265-3632-4763-a266-653332313136
X-WR-TIMEZONE:Europe/Berlin
X-LIC-LOCATION:Europe/Berlin
BEGIN:VTIMEZONE
TZID:Europe/Berlin
BEGIN:DAYLIGHT
TZOFFSETFROM:+0100
TZOFFSETTO:+0200
TZNAME:CEST
DTSTART:19700329T020000
RRULE:FREQ=YEARLY;BYDAY=-1SU;BYMONTH=3
END:DAYLIGHT
BEGIN:STANDARD
TZOFFSETFROM:+0200
TZOFFSETTO:+0100
TZNAME:CET
DTSTART:19701025T030000
RRULE:FREQ=YEARLY;BYDAY=-1SU;BYMONTH=10
END:STANDARD
END:VTIMEZONE
BEGIN:VEVENT
UID:30356531-3061-4565-b834-663934326161
DTSTAMP:20260423T013411Z
DESCRIPTION:Spür das Leben\, Spür den Glauben\n \n Weitere Termine:\n Sa. 2
 5.04.2026\, 18:00 bis 21:00 Uhr\n Sa. 20.06.2026\, 18:00 bis 21:00 Uhr\n S
 a. 04.07.2026\, 18:00 bis 21:00 Uhr\n \n Komm genau so\, wie du bist\, erl
 ebe Glauben und gestalte mit. Sei dabei und bring deinen Herzschlag mit!\n
  \n Veranstaltungsort:\n Jugendräume Bretten\, Turbanstraße 9\n \n Veranst
 alter:\n Evangelische Kirche Region Bretten
DTSTART;TZID=Europe/Berlin:20260516T180000
DTEND;TZID=Europe/Berlin:20260516T210000
LOCATION:Jugendräume Bretten\, Turbanstraße 9
SUMMARY:Heartbeat - Jugendtreff für alle ab 13 Jahre
X-ALT-DESC;FMTTYPE=text/html:Spür das Leben\, Spür den Glauben<br /><br />W
 eitere Termine:<br />Sa. 25.04.2026\, 18:00 bis 21:00 Uhr<br />Sa. 20.06.2
 026\, 18:00 bis 21:00 Uhr<br />Sa. 04.07.2026\, 18:00 bis 21:00 Uhr<br /><
 br />Komm genau so\, wie du bist\,\n erlebe Glauben\n und gestalte mit.\n 
 \n Sei dabei und bring deinen Herzschlag mit!<br /><br />Veranstaltungsort
 : <br />Jugendräume Bretten\, Turbanstraße 9<br /><br />Veranstalter: <br 
 />Evangelische Kirche Region Bretten
END:VEVENT
END:VCALENDAR
