BEGIN:VCALENDAR
VERSION:2.0
PRODID:-//demo.eki-musterhausen.de//NONSGML kigkonsult.se iCalcreator 2.41.92//
CALSCALE:GREGORIAN
METHOD:PUBLISH
UID:66626434-3735-4232-b134-666436343439
X-WR-TIMEZONE:Europe/Berlin
X-LIC-LOCATION:Europe/Berlin
BEGIN:VTIMEZONE
TZID:Europe/Berlin
BEGIN:DAYLIGHT
TZOFFSETFROM:+0100
TZOFFSETTO:+0200
TZNAME:CEST
DTSTART:19700329T020000
RRULE:FREQ=YEARLY;BYDAY=-1SU;BYMONTH=3
END:DAYLIGHT
BEGIN:STANDARD
TZOFFSETFROM:+0200
TZOFFSETTO:+0100
TZNAME:CET
DTSTART:19701025T030000
RRULE:FREQ=YEARLY;BYDAY=-1SU;BYMONTH=10
END:STANDARD
END:VTIMEZONE
BEGIN:VEVENT
UID:37653662-6535-4730-a661-353133613736
DTSTAMP:20260423T084956Z
DESCRIPTION:Spür das Leben\, Spür den Glauben\n \n Gottesdienst\n \n Weiter
 e Termine:\n Sa. 16.05.2026\, 18:00 bis 21:00 Uhr\n Sa. 20.06.2026\, 18:00
  bis 21:00 Uhr\n Sa. 04.07.2026\, 18:00 bis 21:00 Uhr\n \n Komm genau so\,
  wie du bist\, erlebe Glauben und gestalte mit. Sei dabei und bring deinen
  Herzschlag mit!\n \n Veranstaltungsort:\n Jugendräume Bretten\, Turbanstr
 aße 9\n \n Veranstalter:\n Evangelische Kirche Region Bretten
DTSTART;TZID=Europe/Berlin:20260425T180000
DTEND;TZID=Europe/Berlin:20260425T210000
LOCATION:Jugendräume Bretten\, Turbanstraße 9
SUMMARY:Heartbeat - Jugendtreff für alle ab 13 Jahre
X-ALT-DESC;FMTTYPE=text/html:Spür das Leben\, Spür den Glauben<br /><br />G
 ottesdienst<br /><br />Weitere Termine:<br />Sa. 16.05.2026\, 18:00 bis 21
 :00 Uhr<br />Sa. 20.06.2026\, 18:00 bis 21:00 Uhr<br />Sa. 04.07.2026\, 18
 :00 bis 21:00 Uhr<br /><br />Komm genau so\, wie du bist\,\n erlebe Glaube
 n\n und gestalte mit.\n \n Sei dabei und bring deinen Herzschlag mit!<br /
 ><br />Veranstaltungsort: <br />Jugendräume Bretten\, Turbanstraße 9<br />
 <br />Veranstalter: <br />Evangelische Kirche Region Bretten
END:VEVENT
END:VCALENDAR
