BEGIN:VCALENDAR
VERSION:2.0
PRODID:-//demo.eki-musterhausen.de//NONSGML kigkonsult.se iCalcreator 2.41.92//
CALSCALE:GREGORIAN
METHOD:PUBLISH
UID:65633835-6535-4066-a530-653937393165
X-WR-TIMEZONE:Europe/Berlin
X-LIC-LOCATION:Europe/Berlin
BEGIN:VTIMEZONE
TZID:Europe/Berlin
BEGIN:DAYLIGHT
TZOFFSETFROM:+0100
TZOFFSETTO:+0200
TZNAME:CEST
DTSTART:19700329T020000
RRULE:FREQ=YEARLY;BYDAY=-1SU;BYMONTH=3
END:DAYLIGHT
BEGIN:STANDARD
TZOFFSETFROM:+0200
TZOFFSETTO:+0100
TZNAME:CET
DTSTART:19701025T030000
RRULE:FREQ=YEARLY;BYDAY=-1SU;BYMONTH=10
END:STANDARD
END:VTIMEZONE
BEGIN:VEVENT
UID:38343630-3639-4436-a633-323636633237
DTSTAMP:20260423T063601Z
DESCRIPTION:mit Abendmahl\n \n Gottesdienst\n \n Weitere Termine:\n Jeden M
 o. 05.08.2024 bis 19.07.2027\, 12:00 Uhr\n Jeden So. 05.01.2025 bis 24.01.
 2027\, 09:00 Uhr\n \n Veranstaltungsort:\n Matthäuskirche\n Hochkopfstraße
  30\n 75179 Pforzheim\n \n Veranstalter:\n Kindergarten Himmelszelt\n Must
 erstr. 1
DTSTART;TZID=Europe/Berlin:20261101T090000
DTEND;TZID=Europe/Berlin:20261101T093000
LOCATION:Matthäuskirche\n - Hochkopfstraße 30\n - 75179 Pforzheim
SUMMARY:Gottesdienst
X-ALT-DESC;FMTTYPE=text/html:mit Abendmahl<br /><br />Gottesdienst<br /><br
  />Weitere Termine:<br />Jeden Mo. 05.08.2024 bis 19.07.2027\, 12:00 Uhr<b
 r />Jeden So. 05.01.2025 bis 24.01.2027\, 09:00 Uhr<br /><br />Veranstaltu
 ngsort: <br />Matthäuskirche<br />Hochkopfstraße 30<br />75179 Pforzheim<b
 r /><br />Veranstalter: <br />Kindergarten Himmelszelt<br />Musterstr. 1
END:VEVENT
END:VCALENDAR
