BEGIN:VCALENDAR
VERSION:2.0
PRODID:-//demo.eki-musterhausen.de//NONSGML kigkonsult.se iCalcreator 2.41.92//
CALSCALE:GREGORIAN
METHOD:PUBLISH
UID:64373233-3132-4439-b537-653062626535
X-WR-TIMEZONE:Europe/Berlin
X-LIC-LOCATION:Europe/Berlin
BEGIN:VTIMEZONE
TZID:Europe/Berlin
BEGIN:DAYLIGHT
TZOFFSETFROM:+0100
TZOFFSETTO:+0200
TZNAME:CEST
DTSTART:19700329T020000
RRULE:FREQ=YEARLY;BYDAY=-1SU;BYMONTH=3
END:DAYLIGHT
BEGIN:STANDARD
TZOFFSETFROM:+0200
TZOFFSETTO:+0100
TZNAME:CET
DTSTART:19701025T030000
RRULE:FREQ=YEARLY;BYDAY=-1SU;BYMONTH=10
END:STANDARD
END:VTIMEZONE
BEGIN:VEVENT
UID:30346634-3130-4637-b037-626261613635
DTSTAMP:20260423T042710Z
DESCRIPTION:mit Abendmahl\n \n Gottesdienst\n \n Gestaltung:\n Organist/in:
  Margot Schneider\n Lektor/in:\n Kirchendiener/in:\n \n Weitere Termine:\n
  Jeden Mo. 05.08.2024 bis 19.07.2027\, 12:00 Uhr\n Jeden So. 05.01.2025 bi
 s 24.01.2027\, 09:00 Uhr\n \n Veranstaltungsort:\n Matthäuskirche\n Hochko
 pfstraße 30\n 75179 Pforzheim\n \n Veranstalter:\n Kindergarten Himmelszel
 t\n Musterstr. 1
DTSTART;TZID=Europe/Berlin:20260503T090000
DTEND;TZID=Europe/Berlin:20260503T093000
LOCATION:Matthäuskirche\n - Hochkopfstraße 30\n - 75179 Pforzheim
SUMMARY:Gottesdienst
X-ALT-DESC;FMTTYPE=text/html:mit Abendmahl<br /><br />Gottesdienst<br /><br
  />Gestaltung: <br />Organist/in: Margot Schneider<br />Lektor/in: <br />K
 irchendiener/in: <br /><br />Weitere Termine:<br />Jeden Mo. 05.08.2024 bi
 s 19.07.2027\, 12:00 Uhr<br />Jeden So. 05.01.2025 bis 24.01.2027\, 09:00 
 Uhr<br /><br />Veranstaltungsort: <br />Matthäuskirche<br />Hochkopfstraße
  30<br />75179 Pforzheim<br /><br />Veranstalter: <br />Kindergarten Himme
 lszelt<br />Musterstr. 1
END:VEVENT
END:VCALENDAR
