BEGIN:VCALENDAR
VERSION:2.0
PRODID:-//demo.eki-musterhausen.de//NONSGML kigkonsult.se iCalcreator 2.41.92//
CALSCALE:GREGORIAN
METHOD:PUBLISH
UID:37653562-3430-4564-a330-393637303434
X-WR-TIMEZONE:Europe/Berlin
X-LIC-LOCATION:Europe/Berlin
BEGIN:VTIMEZONE
TZID:Europe/Berlin
BEGIN:DAYLIGHT
TZOFFSETFROM:+0100
TZOFFSETTO:+0200
TZNAME:CEST
DTSTART:19700329T020000
RRULE:FREQ=YEARLY;BYDAY=-1SU;BYMONTH=3
END:DAYLIGHT
BEGIN:STANDARD
TZOFFSETFROM:+0200
TZOFFSETTO:+0100
TZNAME:CET
DTSTART:19701025T030000
RRULE:FREQ=YEARLY;BYDAY=-1SU;BYMONTH=10
END:STANDARD
END:VTIMEZONE
BEGIN:VEVENT
UID:37663066-6464-4661-a138-313031623838
DTSTAMP:20260424T102309Z
DESCRIPTION:Weitere Termine:\n Jeden 3. So. im Monat\, 19.04.2026 - 17.01.2
 027\, 10:00 Uhr Außer am: So. 17.05.2026\, 10:00 Uhr (Evang. Kirche Kürzel
 l) So. 16.08.2026\n So. 03.05.2026\, 10:00 Uhr\n Alle 4 Wochen\, Fr. 15.05
 .2026 bis 25.12.2026\, 16:00 Uhr\n \n Veranstaltungsort:\n Gemeindehaus Mu
 sterhausen\n Fritz-Neuert-Straße 32\n 77656 Musterhausen\n \n Veranstalter
 :\n Kirchengemeinde Musterhausen
DTSTART;TZID=Europe/Berlin:20261225T160000
DTEND;TZID=Europe/Berlin:20261225T173000
LOCATION:Gemeindehaus Musterhausen\n - Fritz-Neuert-Straße 32\n - 77656 Mus
 terhausen
SUMMARY:Kirche Kunterbunt
X-ALT-DESC;FMTTYPE=text/html:Weitere Termine:<br />Jeden 3. So. im Monat\, 
 19.04.2026 - 17.01.2027\, 10:00 Uhr Außer am:\n So. 17.05.2026\, 10:00 Uhr
  (Evang. Kirche Kürzell)\n So. 16.08.2026<br />So. 03.05.2026\, 10:00 Uhr<
 br />Alle 4 Wochen\, Fr. 15.05.2026 bis 25.12.2026\, 16:00 Uhr<br /><br />
 Veranstaltungsort: <br />Gemeindehaus Musterhausen<br />Fritz-Neuert-Straß
 e 32<br />77656 Musterhausen<br /><br />Veranstalter: <br />Kirchengemeind
 e Musterhausen
END:VEVENT
END:VCALENDAR
