BEGIN:VCALENDAR
VERSION:2.0
PRODID:-//demo.eki-musterhausen.de//NONSGML kigkonsult.se iCalcreator 2.41.92//
CALSCALE:GREGORIAN
METHOD:PUBLISH
UID:62383836-3463-4764-a332-363132303163
X-WR-TIMEZONE:Europe/Berlin
X-LIC-LOCATION:Europe/Berlin
BEGIN:VTIMEZONE
TZID:Europe/Berlin
BEGIN:DAYLIGHT
TZOFFSETFROM:+0100
TZOFFSETTO:+0200
TZNAME:CEST
DTSTART:19700329T020000
RRULE:FREQ=YEARLY;BYDAY=-1SU;BYMONTH=3
END:DAYLIGHT
BEGIN:STANDARD
TZOFFSETFROM:+0200
TZOFFSETTO:+0100
TZNAME:CET
DTSTART:19701025T030000
RRULE:FREQ=YEARLY;BYDAY=-1SU;BYMONTH=10
END:STANDARD
END:VTIMEZONE
BEGIN:VEVENT
UID:66323530-3364-4936-b565-383065313936
DTSTAMP:20260424T011935Z
DESCRIPTION:Gottesdienst\n \n Weitere Termine:\n Jeden 3. So. im Monat\, 19
 .04.2026 - 17.01.2027\, 10:00 Uhr Außer am: So. 16.08.2026\n So. 03.05.202
 6\, 10:00 Uhr\n Alle 4 Wochen\, Fr. 15.05.2026 bis 25.12.2026\, 16:00 Uhr
 \n \n Mit Mitmachchor ABC\n \n Veranstaltungsort:\n Evang. Kirche Kürzell
 \n Oberdorfstr. 8\n 77974 Kürzell\n \n Veranstalter:\n Kirchengemeinde Mus
 terhausen\n https://www.ekiba.de/infothek/arbeitsfelder/ichbinlang
DTSTART;TZID=Europe/Berlin:20260517T100000
DTEND;TZID=Europe/Berlin:20260517T113000
LOCATION:Evang. Kirche Kürzell\n - Oberdorfstr. 8\n - 77974 Kürzell
SUMMARY:Kirche Kunterbunt
X-ALT-DESC;FMTTYPE=text/html:Gottesdienst<br /><br />Weitere Termine:<br />
 Jeden 3. So. im Monat\, 19.04.2026 - 17.01.2027\, 10:00 Uhr Außer am:\n So
 . 16.08.2026<br />So. 03.05.2026\, 10:00 Uhr<br />Alle 4 Wochen\, Fr. 15.0
 5.2026 bis 25.12.2026\, 16:00 Uhr<br /><br />Mit Mitmachchor ABC<br /><br 
 />Veranstaltungsort: <br />Evang. Kirche Kürzell<br />Oberdorfstr. 8<br />
 77974 Kürzell<br /><br />Veranstalter: <br />Kirchengemeinde Musterhausen<
 br />https://www.ekiba.de/infothek/arbeitsfelder/ichbinlang
END:VEVENT
END:VCALENDAR
