BEGIN:VCALENDAR
VERSION:2.0
PRODID:-//demo.eki-musterhausen.de//NONSGML kigkonsult.se iCalcreator 2.41.92//
CALSCALE:GREGORIAN
METHOD:PUBLISH
UID:36353038-6461-4639-a135-343432396538
X-WR-TIMEZONE:Europe/Berlin
X-LIC-LOCATION:Europe/Berlin
BEGIN:VTIMEZONE
TZID:Europe/Berlin
BEGIN:DAYLIGHT
TZOFFSETFROM:+0100
TZOFFSETTO:+0200
TZNAME:CEST
DTSTART:19700329T020000
RRULE:FREQ=YEARLY;BYDAY=-1SU;BYMONTH=3
END:DAYLIGHT
BEGIN:STANDARD
TZOFFSETFROM:+0200
TZOFFSETTO:+0100
TZNAME:CET
DTSTART:19701025T030000
RRULE:FREQ=YEARLY;BYDAY=-1SU;BYMONTH=10
END:STANDARD
END:VTIMEZONE
BEGIN:VEVENT
UID:36613837-6665-4539-b833-396466663932
DTSTAMP:20260423T042538Z
DESCRIPTION:Gottesdienst\n \n (Dekan Link)\n \n Veranstaltungsort:\n Evang.
  Kirche Forbach\n Schifferstraße 11\n 76596 Forbach\n \n Veranstalter:\n G
 emeinde: KG Forbach-Weisenbach - Pfarramt: Forbach-Weisenbach\n Schifferst
 raße 13\n 76596 Forbach-Weisenbach\n Telefon: 07228-2344
DTSTART;TZID=Europe/Berlin:20260531T100000
DTEND;TZID=Europe/Berlin:20260531T110000
LOCATION:Evang. Kirche Forbach\n - Schifferstraße 11\n - 76596 Forbach
SUMMARY:Gottesdienst
X-ALT-DESC;FMTTYPE=text/html:Gottesdienst<br /><br />(Dekan Link)<br /><br 
 />Veranstaltungsort: <br />Evang. Kirche Forbach<br />Schifferstraße 11<br
  />76596 Forbach<br /><br />Veranstalter: <br />Gemeinde: KG Forbach-Weise
 nbach - Pfarramt: Forbach-Weisenbach<br />Schifferstraße 13<br />76596 For
 bach-Weisenbach<br />Telefon: 07228-2344
END:VEVENT
END:VCALENDAR
