BEGIN:VCALENDAR
VERSION:2.0
PRODID:-//demo.eki-musterhausen.de//NONSGML kigkonsult.se iCalcreator 2.41.92//
CALSCALE:GREGORIAN
METHOD:PUBLISH
UID:32636133-3566-4465-a133-366334363065
X-WR-TIMEZONE:Europe/Berlin
X-LIC-LOCATION:Europe/Berlin
BEGIN:VTIMEZONE
TZID:Europe/Berlin
BEGIN:DAYLIGHT
TZOFFSETFROM:+0100
TZOFFSETTO:+0200
TZNAME:CEST
DTSTART:19700329T020000
RRULE:FREQ=YEARLY;BYDAY=-1SU;BYMONTH=3
END:DAYLIGHT
BEGIN:STANDARD
TZOFFSETFROM:+0200
TZOFFSETTO:+0100
TZNAME:CET
DTSTART:19701025T030000
RRULE:FREQ=YEARLY;BYDAY=-1SU;BYMONTH=10
END:STANDARD
END:VTIMEZONE
BEGIN:VEVENT
UID:33326632-3337-4562-b265-633231316363
DTSTAMP:20260423T111132Z
DESCRIPTION:(Pfrin. Walz S.)\n \n Veranstaltungsort:\n Evang. Kirche Forbac
 h\n Schifferstraße 11\n 76596 Forbach\n \n Veranstalter:\n Gemeinde: KG Fo
 rbach-Weisenbach - Pfarramt: Forbach-Weisenbach
DTSTART;TZID=Europe/Berlin:20260517T180000
DTEND;TZID=Europe/Berlin:20260517T190000
LOCATION:Evang. Kirche Forbach\n - Schifferstraße 11\n - 76596 Forbach
SUMMARY:Abendgottesdienst
X-ALT-DESC;FMTTYPE=text/html:(Pfrin. Walz S.)<br /><br />Veranstaltungsort:
  <br />Evang. Kirche Forbach<br />Schifferstraße 11<br />76596 Forbach<br 
 /><br />Veranstalter: <br />Gemeinde: KG Forbach-Weisenbach - Pfarramt: Fo
 rbach-Weisenbach
END:VEVENT
END:VCALENDAR
