BEGIN:VCALENDAR
VERSION:2.0
PRODID:-//demo.eki-musterhausen.de//NONSGML kigkonsult.se iCalcreator 2.41.92//
CALSCALE:GREGORIAN
METHOD:PUBLISH
UID:35326563-3636-4661-a534-393163343031
X-WR-TIMEZONE:Europe/Berlin
X-LIC-LOCATION:Europe/Berlin
BEGIN:VTIMEZONE
TZID:Europe/Berlin
BEGIN:DAYLIGHT
TZOFFSETFROM:+0100
TZOFFSETTO:+0200
TZNAME:CEST
DTSTART:19700329T020000
RRULE:FREQ=YEARLY;BYDAY=-1SU;BYMONTH=3
END:DAYLIGHT
BEGIN:STANDARD
TZOFFSETFROM:+0200
TZOFFSETTO:+0100
TZNAME:CET
DTSTART:19701025T030000
RRULE:FREQ=YEARLY;BYDAY=-1SU;BYMONTH=10
END:STANDARD
END:VTIMEZONE
BEGIN:VEVENT
UID:32656561-3632-4633-b133-333236656336
DTSTAMP:20260424T230105Z
DESCRIPTION:GD in Bermersbach\, Musik Wunsch/Daimling (Pfrin. Walz S.)\n \n
  Veranstaltungsort:\n Evang. Kirche Forbach\n Schifferstraße 11\n 76596 Fo
 rbach\n \n Veranstalter:\n Gemeinde: KG Forbach-Weisenbach - Pfarramt: For
 bach-Weisenbach
DTSTART;TZID=Europe/Berlin:20260514T100000
DTEND;TZID=Europe/Berlin:20260514T110000
LOCATION:Evang. Kirche Forbach\n - Schifferstraße 11\n - 76596 Forbach
SUMMARY:Gottesdienst an einem anderen Ort
X-ALT-DESC;FMTTYPE=text/html:GD in Bermersbach\, Musik Wunsch/Daimling (Pfr
 in. Walz S.)<br /><br />Veranstaltungsort: <br />Evang. Kirche Forbach<br 
 />Schifferstraße 11<br />76596 Forbach<br /><br />Veranstalter: <br />Geme
 inde: KG Forbach-Weisenbach - Pfarramt: Forbach-Weisenbach
END:VEVENT
END:VCALENDAR
