BEGIN:VCALENDAR
VERSION:2.0
PRODID:-//demo.eki-musterhausen.de//NONSGML kigkonsult.se iCalcreator 2.41.92//
CALSCALE:GREGORIAN
METHOD:PUBLISH
UID:39356333-3031-4832-a161-633331306333
X-WR-TIMEZONE:Europe/Berlin
X-LIC-LOCATION:Europe/Berlin
BEGIN:VTIMEZONE
TZID:Europe/Berlin
BEGIN:DAYLIGHT
TZOFFSETFROM:+0100
TZOFFSETTO:+0200
TZNAME:CEST
DTSTART:19700329T020000
RRULE:FREQ=YEARLY;BYDAY=-1SU;BYMONTH=3
END:DAYLIGHT
BEGIN:STANDARD
TZOFFSETFROM:+0200
TZOFFSETTO:+0100
TZNAME:CET
DTSTART:19701025T030000
RRULE:FREQ=YEARLY;BYDAY=-1SU;BYMONTH=10
END:STANDARD
END:VTIMEZONE
BEGIN:VEVENT
UID:63653934-6632-4530-b435-623039366663
DTSTAMP:20260425T130029Z
DESCRIPTION:Gottesdienst\n \n Weitere Termine:\n Jeden 3. Do. im Monat\, 15
 .01.2026 - 21.01.2027\, 13:00 Uhr Außer am: Do. 21.05.2026 Do. 20.08.2026
 \n Alle 2 Wochen\, Sa. 28.02.2026 bis 13.03.2027\, 20:00 Uhr Außer am: Sa.
  01.08.2026 Sa. 15.08.2026 Sa. 29.08.2026\n \n Veranstaltungsort:\n Evang.
  Kirche Huchenfeld\n An der Kirche 5\n 75181 Pforzheim\n https://www.evkir
 che-pf.de/html/content/hoffnungsgemeinde4993.html\n \n Veranstalter:\n Kir
 chengemeinde Musterhausen\n https://www.ekiba.de/infothek/arbeitsfelder/ic
 hbinlang
DTSTART;TZID=Europe/Berlin:20260528T130000
DTEND;TZID=Europe/Berlin:20260528T140000
LOCATION:Evang. Kirche Huchenfeld\n - An der Kirche 5\n - 75181 Pforzheim\n
  - https://www.evkirche-pf.de/html/content/hoffnungsgemeinde4993.html
SUMMARY:Mittagsgebet
X-ALT-DESC;FMTTYPE=text/html:Gottesdienst<br /><br />Weitere Termine:<br />
 Jeden 3. Do. im Monat\, 15.01.2026 - 21.01.2027\, 13:00 Uhr Außer am:\n Do
 . 21.05.2026\n Do. 20.08.2026<br />Alle 2 Wochen\, Sa. 28.02.2026 bis 13.0
 3.2027\, 20:00 Uhr Außer am:\n Sa. 01.08.2026\n Sa. 15.08.2026\n Sa. 29.08
 .2026<br /><br />Veranstaltungsort: <br />Evang. Kirche Huchenfeld<br />An
  der Kirche 5<br />75181 Pforzheim<br />https://www.evkirche-pf.de/html/co
 ntent/hoffnungsgemeinde4993.html<br /><br />Veranstalter: <br />Kirchengem
 einde Musterhausen<br />https://www.ekiba.de/infothek/arbeitsfelder/ichbin
 lang
END:VEVENT
END:VCALENDAR
