BEGIN:VCALENDAR
VERSION:2.0
PRODID:-//demo.eki-musterhausen.de//NONSGML kigkonsult.se iCalcreator 2.41.92//
CALSCALE:GREGORIAN
METHOD:PUBLISH
UID:37383365-3434-4432-b461-613737343337
X-WR-TIMEZONE:Europe/Berlin
X-LIC-LOCATION:Europe/Berlin
BEGIN:VTIMEZONE
TZID:Europe/Berlin
BEGIN:DAYLIGHT
TZOFFSETFROM:+0100
TZOFFSETTO:+0200
TZNAME:CEST
DTSTART:19700329T020000
RRULE:FREQ=YEARLY;BYDAY=-1SU;BYMONTH=3
END:DAYLIGHT
BEGIN:STANDARD
TZOFFSETFROM:+0200
TZOFFSETTO:+0100
TZNAME:CET
DTSTART:19701025T030000
RRULE:FREQ=YEARLY;BYDAY=-1SU;BYMONTH=10
END:STANDARD
END:VTIMEZONE
BEGIN:VEVENT
UID:64643134-6636-4037-a336-346661366464
DTSTAMP:20260425T145253Z
DESCRIPTION:Gottesdienst\n \n Gestaltung: Ben Müller\n Organist/in:\n Lekto
 r/in:\n Kirchendiener/in:\n \n Weitere Termine:\n Jeden Mi. 15.10.2025 bis
  13.10.2027\, 06:00 Uhr\n Jeden Di. 02.12.2025 bis 21.12.2027\, 09:00 Uhr
 \n \n Veranstaltungsort:\n Gemeindehaus Musterhausen\n Fritz-Neuert-Straße
  32\n 77656 Musterhausen\n Telefon: 0253 - 123 45 67\n https://musterhause
 n.de/ueber-uns/\n Öffnungszeiten: Mo + Do: 9 - 12 Uhr Di + Fr: 14 -16 Uhr
 \n \n Veranstalter:\n Kirchengemeinde Musterhausen\n https://www.ekiba.de/
 infothek/arbeitsfelder/ichbinlang
DTSTART;TZID=Europe/Berlin:20270921T090000
DTEND;TZID=Europe/Berlin:20270921T100000
LOCATION:Gemeindehaus Musterhausen\n - Fritz-Neuert-Straße 32\n - 77656 Mus
 terhausen\n - Telefon: 0253 - 123 45 67\n - https://musterhausen.de/ueber-
 uns/\n - Öffnungszeiten: Mo + Do: 9 - 12 Uhr Di + Fr: 14 -16 Uhr
SUMMARY:Morgengebet
X-ALT-DESC;FMTTYPE=text/html:Gottesdienst<br /><br />Gestaltung: Ben Müller
 <br />Organist/in: <br />Lektor/in: <br />Kirchendiener/in: <br /><br />We
 itere Termine:<br />Jeden Mi. 15.10.2025 bis 13.10.2027\, 06:00 Uhr<br />J
 eden Di. 02.12.2025 bis 21.12.2027\, 09:00 Uhr<br /><br />Veranstaltungsor
 t: <br />Gemeindehaus Musterhausen<br />Fritz-Neuert-Straße 32<br />77656 
 Musterhausen<br />Telefon: 0253 - 123 45 67<br />https://musterhausen.de/u
 eber-uns/<br />Öffnungszeiten:\n Mo + Do: 9 - 12 Uhr\n Di + Fr: 14 -16 Uhr
 <br /><br />Veranstalter: <br />Kirchengemeinde Musterhausen<br />https://
 www.ekiba.de/infothek/arbeitsfelder/ichbinlang
END:VEVENT
END:VCALENDAR
