BEGIN:VCALENDAR
VERSION:2.0
PRODID:-//demo.eki-musterhausen.de//NONSGML kigkonsult.se iCalcreator 2.41.92//
CALSCALE:GREGORIAN
METHOD:PUBLISH
UID:63613333-3466-4739-b038-643063623166
X-WR-TIMEZONE:Europe/Berlin
X-LIC-LOCATION:Europe/Berlin
BEGIN:VTIMEZONE
TZID:Europe/Berlin
BEGIN:DAYLIGHT
TZOFFSETFROM:+0100
TZOFFSETTO:+0200
TZNAME:CEST
DTSTART:19700329T020000
RRULE:FREQ=YEARLY;BYDAY=-1SU;BYMONTH=3
END:DAYLIGHT
BEGIN:STANDARD
TZOFFSETFROM:+0200
TZOFFSETTO:+0100
TZNAME:CET
DTSTART:19701025T030000
RRULE:FREQ=YEARLY;BYDAY=-1SU;BYMONTH=10
END:STANDARD
END:VTIMEZONE
BEGIN:VEVENT
UID:33353337-6261-4662-b934-396337326538
DTSTAMP:20260423T030408Z
DESCRIPTION:Gottesdienst\n \n Weitere Termine:\n Jeden Di. und Do. 22.05.20
 25 bis 17.06.2027\, 09:00 Uhr\n Fr. 22.05.2026\, 09:00 Uhr\n \n Veranstalt
 ungsort:\n Matthäuskirche\n Hochkopfstraße 30\n 75179 Pforzheim\n https://
 www.evkirche-pf.de/html/content/matthaeus626.html\n \n Veranstalter:\n Kir
 chengemeinde Musterhausen\n https://www.ekiba.de/infothek/arbeitsfelder/ic
 hbinlang
DTSTART;TZID=Europe/Berlin:20260430T090000
DTEND;TZID=Europe/Berlin:20260430T100000
LOCATION:Matthäuskirche\n - Hochkopfstraße 30\n - 75179 Pforzheim\n - https
 ://www.evkirche-pf.de/html/content/matthaeus626.html
SUMMARY:Abendgottesdienst
X-ALT-DESC;FMTTYPE=text/html:Gottesdienst<br /><br />Weitere Termine:<br />
 Jeden Di. und Do. 22.05.2025 bis 17.06.2027\, 09:00 Uhr<br />Fr. 22.05.202
 6\, 09:00 Uhr<br /><br />Veranstaltungsort: <br />Matthäuskirche<br />Hoch
 kopfstraße 30<br />75179 Pforzheim<br />https://www.evkirche-pf.de/html/co
 ntent/matthaeus626.html<br /><br />Veranstalter: <br />Kirchengemeinde Mus
 terhausen<br />https://www.ekiba.de/infothek/arbeitsfelder/ichbinlang
END:VEVENT
END:VCALENDAR
