BEGIN:VCALENDAR
VERSION:2.0
PRODID:-//demo.eki-musterhausen.de//NONSGML kigkonsult.se iCalcreator 2.41.92//
CALSCALE:GREGORIAN
METHOD:PUBLISH
UID:34613337-6664-4133-a465-373162306635
X-WR-TIMEZONE:Europe/Berlin
X-LIC-LOCATION:Europe/Berlin
BEGIN:VTIMEZONE
TZID:Europe/Berlin
BEGIN:DAYLIGHT
TZOFFSETFROM:+0100
TZOFFSETTO:+0200
TZNAME:CEST
DTSTART:19700329T020000
RRULE:FREQ=YEARLY;BYDAY=-1SU;BYMONTH=3
END:DAYLIGHT
BEGIN:STANDARD
TZOFFSETFROM:+0200
TZOFFSETTO:+0100
TZNAME:CET
DTSTART:19701025T030000
RRULE:FREQ=YEARLY;BYDAY=-1SU;BYMONTH=10
END:STANDARD
END:VTIMEZONE
BEGIN:VEVENT
UID:64333339-3433-4836-b739-616262343564
DTSTAMP:20260425T124911Z
DESCRIPTION:Gottesdienst\n \n Weitere Termine:\n Jeden Mo. 19.02.2024 bis 0
 7.06.2027\, 18:00 Uhr\n \n Veranstaltungsort:\n Achern Christuskirche\n Ba
 nanenstr. 8\n 77855 Achern\n Telefon: 07841 6349180\n \n Veranstalter:\n K
 irchengemeinde Musterhausen\n https://www.ekiba.de/infothek/arbeitsfelder/
 ichbinlang
DTSTART;TZID=Europe/Berlin:20261204T150000
DTEND;TZID=Europe/Berlin:20261204T160000
LOCATION:Achern Christuskirche\n - Bananenstr. 8\n - 77855 Achern\n - Telef
 on: 07841 6349180
SUMMARY:Abendandacht
X-ALT-DESC;FMTTYPE=text/html:Gottesdienst<br /><br />Weitere Termine:<br />
 Jeden Mo. 19.02.2024 bis 07.06.2027\, 18:00 Uhr<br /><br />Veranstaltungso
 rt: <br />Achern Christuskirche<br />Bananenstr. 8<br />77855 Achern<br />
 Telefon: 07841 6349180<br /><br />Veranstalter: <br />Kirchengemeinde Must
 erhausen<br />https://www.ekiba.de/infothek/arbeitsfelder/ichbinlang
END:VEVENT
END:VCALENDAR
