BEGIN:VCALENDAR
VERSION:2.0
PRODID:-//demo.eki-musterhausen.de//NONSGML kigkonsult.se iCalcreator 2.41.92//
CALSCALE:GREGORIAN
METHOD:PUBLISH
UID:61643530-3739-4434-b866-323931616431
X-WR-TIMEZONE:Europe/Berlin
X-LIC-LOCATION:Europe/Berlin
BEGIN:VTIMEZONE
TZID:Europe/Berlin
BEGIN:DAYLIGHT
TZOFFSETFROM:+0100
TZOFFSETTO:+0200
TZNAME:CEST
DTSTART:19700329T020000
RRULE:FREQ=YEARLY;BYDAY=-1SU;BYMONTH=3
END:DAYLIGHT
BEGIN:STANDARD
TZOFFSETFROM:+0200
TZOFFSETTO:+0100
TZNAME:CET
DTSTART:19701025T030000
RRULE:FREQ=YEARLY;BYDAY=-1SU;BYMONTH=10
END:STANDARD
END:VTIMEZONE
BEGIN:VEVENT
UID:32343565-3363-4766-b037-346331383866
DTSTAMP:20260425T234538Z
DESCRIPTION:Gottesdienst\n \n Weitere Termine:\n Jeden 3. So. im Monat\, 19
 .04.2026 - 17.01.2027\, 10:00 Uhr Außer am: So. 17.05.2026\, 10:00 Uhr (Ev
 ang. Kirche Kürzell) So. 16.08.2026\n So. 03.05.2026\, 10:00 Uhr\n Alle 4 
 Wochen\, Fr. 15.05.2026 bis 25.12.2026\, 16:00 Uhr\n \n Veranstaltungsort:
 \n Gemeindehaus Musterhausen\n Fritz-Neuert-Straße 32\n 77656 Musterhausen
 \n Telefon: 0253 - 123 45 67\n https://musterhausen.de/ueber-uns/\n Öffnun
 gszeiten: Mo + Do: 9 - 12 Uhr Di + Fr: 14 -16 Uhr\n \n Veranstalter:\n Kir
 chengemeinde Musterhausen\n https://www.ekiba.de/infothek/arbeitsfelder/ic
 hbinlang
DTSTART;TZID=Europe/Berlin:20261115T100000
DTEND;TZID=Europe/Berlin:20261115T113000
LOCATION:Gemeindehaus Musterhausen\n - Fritz-Neuert-Straße 32\n - 77656 Mus
 terhausen\n - Telefon: 0253 - 123 45 67\n - https://musterhausen.de/ueber-
 uns/\n - Öffnungszeiten: Mo + Do: 9 - 12 Uhr Di + Fr: 14 -16 Uhr
SUMMARY:Kirche Kunterbunt
X-ALT-DESC;FMTTYPE=text/html:Gottesdienst<br /><br />Weitere Termine:<br />
 Jeden 3. So. im Monat\, 19.04.2026 - 17.01.2027\, 10:00 Uhr Außer am:\n So
 . 17.05.2026\, 10:00 Uhr (Evang. Kirche Kürzell)\n So. 16.08.2026<br />So.
  03.05.2026\, 10:00 Uhr<br />Alle 4 Wochen\, Fr. 15.05.2026 bis 25.12.2026
 \, 16:00 Uhr<br /><br />Veranstaltungsort: <br />Gemeindehaus Musterhausen
 <br />Fritz-Neuert-Straße 32<br />77656 Musterhausen<br />Telefon: 0253 - 
 123 45 67<br />https://musterhausen.de/ueber-uns/<br />Öffnungszeiten:\n M
 o + Do: 9 - 12 Uhr\n Di + Fr: 14 -16 Uhr<br /><br />Veranstalter: <br />Ki
 rchengemeinde Musterhausen<br />https://www.ekiba.de/infothek/arbeitsfelde
 r/ichbinlang
END:VEVENT
END:VCALENDAR
